BEGIN:VCALENDAR
VERSION:2.0
PRODID:-//Masjid Omar - ECPv6.9.0//NONSGML v1.0//EN
CALSCALE:GREGORIAN
METHOD:PUBLISH
X-ORIGINAL-URL:https://masjidomarharvey.org
X-WR-CALDESC:Events for Masjid Omar
REFRESH-INTERVAL;VALUE=DURATION:PT1H
X-Robots-Tag:noindex
X-PUBLISHED-TTL:PT1H
BEGIN:VTIMEZONE
TZID:America/Chicago
BEGIN:DAYLIGHT
TZOFFSETFROM:-0600
TZOFFSETTO:-0500
TZNAME:CDT
DTSTART:20290311T080000
END:DAYLIGHT
BEGIN:STANDARD
TZOFFSETFROM:-0500
TZOFFSETTO:-0600
TZNAME:CST
DTSTART:20291104T070000
END:STANDARD
END:VTIMEZONE
BEGIN:VEVENT
DTSTART;TZID=America/Chicago:20290817T211500
DTEND;TZID=America/Chicago:20290817T212500
DTSTAMP:20260424T070107
CREATED:20250221T151318Z
LAST-MODIFIED:20250322T023040Z
UID:10005900-1881695700-1881696300@masjidomarharvey.org
SUMMARY:Lessons After Isha with the Sheikh
DESCRIPTION:Come learn various Islamic lessons every day of the week\, with the following topics for each day: \n\nMonday: Ruling lessons (Political)\nTuesday: Interpretation of the Quran\nWednesday: Creed through the Prophetic Biography\nFriday: Youth Circle\nSaturday: Jurisprudence\nSunday: Lessons for the Youth
URL:https://masjidomarharvey.org/event/lessons-after-isha-with-the-shiekh/2029-08-17/
LOCATION:Masjid Omar\, 1528 Pietro Ct.\, Harvey\, LA\, 70058\, United States
CATEGORIES:All Programs,Kid's Programs,Men's Programs,Seminars,Women Programs
END:VEVENT
BEGIN:VEVENT
DTSTART;TZID=America/Chicago:20290818T091500
DTEND;TZID=America/Chicago:20290818T134500
DTSTAMP:20260424T070107
CREATED:20250221T145401Z
LAST-MODIFIED:20250221T145415Z
UID:10000842-1881738900-1881755100@masjidomarharvey.org
SUMMARY:Saturday School for Kids
DESCRIPTION:Come register to have your kids learn the religion of Islam\, Quran\, and the Arabic Language
URL:https://masjidomarharvey.org/event/saturday-school-for-kids/2029-08-18/
LOCATION:Masjid Omar\, 1528 Pietro Ct.\, Harvey\, LA\, 70058\, United States
CATEGORIES:All Programs,Kid's Programs,Seminars
END:VEVENT
BEGIN:VEVENT
DTSTART;TZID=America/Chicago:20290818T170000
DTEND;TZID=America/Chicago:20290818T190000
DTSTAMP:20260424T070107
CREATED:20250221T151720Z
LAST-MODIFIED:20250221T151720Z
UID:10004046-1881766800-1881774000@masjidomarharvey.org
SUMMARY:Jiu-Jitsu for Kids
DESCRIPTION:
URL:https://masjidomarharvey.org/event/jiu-jitsu-for-kids/2029-08-18/
LOCATION:Masjid Omar\, 1528 Pietro Ct.\, Harvey\, LA\, 70058\, United States
CATEGORIES:All Programs,Kid's Programs,Sports Events
END:VEVENT
BEGIN:VEVENT
DTSTART;TZID=America/Chicago:20290818T211500
DTEND;TZID=America/Chicago:20290818T212500
DTSTAMP:20260424T070107
CREATED:20250221T151318Z
LAST-MODIFIED:20250322T023040Z
UID:10005901-1881782100-1881782700@masjidomarharvey.org
SUMMARY:Lessons After Isha with the Sheikh
DESCRIPTION:Come learn various Islamic lessons every day of the week\, with the following topics for each day: \n\nMonday: Ruling lessons (Political)\nTuesday: Interpretation of the Quran\nWednesday: Creed through the Prophetic Biography\nFriday: Youth Circle\nSaturday: Jurisprudence\nSunday: Lessons for the Youth
URL:https://masjidomarharvey.org/event/lessons-after-isha-with-the-shiekh/2029-08-18/
LOCATION:Masjid Omar\, 1528 Pietro Ct.\, Harvey\, LA\, 70058\, United States
CATEGORIES:All Programs,Kid's Programs,Men's Programs,Seminars,Women Programs
END:VEVENT
BEGIN:VEVENT
DTSTART;TZID=America/Chicago:20290819T211500
DTEND;TZID=America/Chicago:20290819T212500
DTSTAMP:20260424T070107
CREATED:20250221T151318Z
LAST-MODIFIED:20250322T023040Z
UID:10005902-1881868500-1881869100@masjidomarharvey.org
SUMMARY:Lessons After Isha with the Sheikh
DESCRIPTION:Come learn various Islamic lessons every day of the week\, with the following topics for each day: \n\nMonday: Ruling lessons (Political)\nTuesday: Interpretation of the Quran\nWednesday: Creed through the Prophetic Biography\nFriday: Youth Circle\nSaturday: Jurisprudence\nSunday: Lessons for the Youth
URL:https://masjidomarharvey.org/event/lessons-after-isha-with-the-shiekh/2029-08-19/
LOCATION:Masjid Omar\, 1528 Pietro Ct.\, Harvey\, LA\, 70058\, United States
CATEGORIES:All Programs,Kid's Programs,Men's Programs,Seminars,Women Programs
END:VEVENT
BEGIN:VEVENT
DTSTART;TZID=America/Chicago:20290820T211500
DTEND;TZID=America/Chicago:20290820T212500
DTSTAMP:20260424T070107
CREATED:20250221T151318Z
LAST-MODIFIED:20250322T023040Z
UID:10005903-1881954900-1881955500@masjidomarharvey.org
SUMMARY:Lessons After Isha with the Sheikh
DESCRIPTION:Come learn various Islamic lessons every day of the week\, with the following topics for each day: \n\nMonday: Ruling lessons (Political)\nTuesday: Interpretation of the Quran\nWednesday: Creed through the Prophetic Biography\nFriday: Youth Circle\nSaturday: Jurisprudence\nSunday: Lessons for the Youth
URL:https://masjidomarharvey.org/event/lessons-after-isha-with-the-shiekh/2029-08-20/
LOCATION:Masjid Omar\, 1528 Pietro Ct.\, Harvey\, LA\, 70058\, United States
CATEGORIES:All Programs,Kid's Programs,Men's Programs,Seminars,Women Programs
END:VEVENT
BEGIN:VEVENT
DTSTART;TZID=America/Chicago:20290821T170000
DTEND;TZID=America/Chicago:20290821T190000
DTSTAMP:20260424T070107
CREATED:20250221T151720Z
LAST-MODIFIED:20250221T151720Z
UID:10004047-1882026000-1882033200@masjidomarharvey.org
SUMMARY:Jiu-Jitsu for Kids
DESCRIPTION:
URL:https://masjidomarharvey.org/event/jiu-jitsu-for-kids/2029-08-21/
LOCATION:Masjid Omar\, 1528 Pietro Ct.\, Harvey\, LA\, 70058\, United States
CATEGORIES:All Programs,Kid's Programs,Sports Events
END:VEVENT
BEGIN:VEVENT
DTSTART;TZID=America/Chicago:20290821T211500
DTEND;TZID=America/Chicago:20290821T212500
DTSTAMP:20260424T070107
CREATED:20250221T151318Z
LAST-MODIFIED:20250322T023040Z
UID:10005904-1882041300-1882041900@masjidomarharvey.org
SUMMARY:Lessons After Isha with the Sheikh
DESCRIPTION:Come learn various Islamic lessons every day of the week\, with the following topics for each day: \n\nMonday: Ruling lessons (Political)\nTuesday: Interpretation of the Quran\nWednesday: Creed through the Prophetic Biography\nFriday: Youth Circle\nSaturday: Jurisprudence\nSunday: Lessons for the Youth
URL:https://masjidomarharvey.org/event/lessons-after-isha-with-the-shiekh/2029-08-21/
LOCATION:Masjid Omar\, 1528 Pietro Ct.\, Harvey\, LA\, 70058\, United States
CATEGORIES:All Programs,Kid's Programs,Men's Programs,Seminars,Women Programs
END:VEVENT
BEGIN:VEVENT
DTSTART;TZID=America/Chicago:20290822T211500
DTEND;TZID=America/Chicago:20290822T212500
DTSTAMP:20260424T070107
CREATED:20250221T151318Z
LAST-MODIFIED:20250322T023040Z
UID:10005905-1882127700-1882128300@masjidomarharvey.org
SUMMARY:Lessons After Isha with the Sheikh
DESCRIPTION:Come learn various Islamic lessons every day of the week\, with the following topics for each day: \n\nMonday: Ruling lessons (Political)\nTuesday: Interpretation of the Quran\nWednesday: Creed through the Prophetic Biography\nFriday: Youth Circle\nSaturday: Jurisprudence\nSunday: Lessons for the Youth
URL:https://masjidomarharvey.org/event/lessons-after-isha-with-the-shiekh/2029-08-22/
LOCATION:Masjid Omar\, 1528 Pietro Ct.\, Harvey\, LA\, 70058\, United States
CATEGORIES:All Programs,Kid's Programs,Men's Programs,Seminars,Women Programs
END:VEVENT
BEGIN:VEVENT
DTSTART;TZID=America/Chicago:20290823T170000
DTEND;TZID=America/Chicago:20290823T190000
DTSTAMP:20260424T070107
CREATED:20250221T151720Z
LAST-MODIFIED:20250221T151720Z
UID:10004048-1882198800-1882206000@masjidomarharvey.org
SUMMARY:Jiu-Jitsu for Kids
DESCRIPTION:
URL:https://masjidomarharvey.org/event/jiu-jitsu-for-kids/2029-08-23/
LOCATION:Masjid Omar\, 1528 Pietro Ct.\, Harvey\, LA\, 70058\, United States
CATEGORIES:All Programs,Kid's Programs,Sports Events
END:VEVENT
BEGIN:VEVENT
DTSTART;TZID=America/Chicago:20290824T170000
DTEND;TZID=America/Chicago:20290824T190000
DTSTAMP:20260424T070107
CREATED:20250221T144745Z
LAST-MODIFIED:20250221T144745Z
UID:10000435-1882285200-1882292400@masjidomarharvey.org
SUMMARY:Islamic Ethics and More (For Females)
DESCRIPTION:Goes over the following: \n\nStories of the Prophets and Role Models\nAl-Tahawiyyah Creed\nIslamic Ethics\nTajweed
URL:https://masjidomarharvey.org/event/islamic-ethics-and-more-for-females/2029-08-24/
LOCATION:LA
CATEGORIES:All Programs,Kid's Programs,Women Programs
END:VEVENT
BEGIN:VEVENT
DTSTART;TZID=America/Chicago:20290824T211500
DTEND;TZID=America/Chicago:20290824T212500
DTSTAMP:20260424T070107
CREATED:20250221T151318Z
LAST-MODIFIED:20250322T023040Z
UID:10005906-1882300500-1882301100@masjidomarharvey.org
SUMMARY:Lessons After Isha with the Sheikh
DESCRIPTION:Come learn various Islamic lessons every day of the week\, with the following topics for each day: \n\nMonday: Ruling lessons (Political)\nTuesday: Interpretation of the Quran\nWednesday: Creed through the Prophetic Biography\nFriday: Youth Circle\nSaturday: Jurisprudence\nSunday: Lessons for the Youth
URL:https://masjidomarharvey.org/event/lessons-after-isha-with-the-shiekh/2029-08-24/
LOCATION:Masjid Omar\, 1528 Pietro Ct.\, Harvey\, LA\, 70058\, United States
CATEGORIES:All Programs,Kid's Programs,Men's Programs,Seminars,Women Programs
END:VEVENT
BEGIN:VEVENT
DTSTART;TZID=America/Chicago:20290825T091500
DTEND;TZID=America/Chicago:20290825T134500
DTSTAMP:20260424T070107
CREATED:20250221T145401Z
LAST-MODIFIED:20250221T145415Z
UID:10000843-1882343700-1882359900@masjidomarharvey.org
SUMMARY:Saturday School for Kids
DESCRIPTION:Come register to have your kids learn the religion of Islam\, Quran\, and the Arabic Language
URL:https://masjidomarharvey.org/event/saturday-school-for-kids/2029-08-25/
LOCATION:Masjid Omar\, 1528 Pietro Ct.\, Harvey\, LA\, 70058\, United States
CATEGORIES:All Programs,Kid's Programs,Seminars
END:VEVENT
BEGIN:VEVENT
DTSTART;TZID=America/Chicago:20290825T170000
DTEND;TZID=America/Chicago:20290825T190000
DTSTAMP:20260424T070107
CREATED:20250221T151720Z
LAST-MODIFIED:20250221T151720Z
UID:10004049-1882371600-1882378800@masjidomarharvey.org
SUMMARY:Jiu-Jitsu for Kids
DESCRIPTION:
URL:https://masjidomarharvey.org/event/jiu-jitsu-for-kids/2029-08-25/
LOCATION:Masjid Omar\, 1528 Pietro Ct.\, Harvey\, LA\, 70058\, United States
CATEGORIES:All Programs,Kid's Programs,Sports Events
END:VEVENT
BEGIN:VEVENT
DTSTART;TZID=America/Chicago:20290825T211500
DTEND;TZID=America/Chicago:20290825T212500
DTSTAMP:20260424T070107
CREATED:20250221T151318Z
LAST-MODIFIED:20250322T023040Z
UID:10005907-1882386900-1882387500@masjidomarharvey.org
SUMMARY:Lessons After Isha with the Sheikh
DESCRIPTION:Come learn various Islamic lessons every day of the week\, with the following topics for each day: \n\nMonday: Ruling lessons (Political)\nTuesday: Interpretation of the Quran\nWednesday: Creed through the Prophetic Biography\nFriday: Youth Circle\nSaturday: Jurisprudence\nSunday: Lessons for the Youth
URL:https://masjidomarharvey.org/event/lessons-after-isha-with-the-shiekh/2029-08-25/
LOCATION:Masjid Omar\, 1528 Pietro Ct.\, Harvey\, LA\, 70058\, United States
CATEGORIES:All Programs,Kid's Programs,Men's Programs,Seminars,Women Programs
END:VEVENT
BEGIN:VEVENT
DTSTART;TZID=America/Chicago:20290826T211500
DTEND;TZID=America/Chicago:20290826T212500
DTSTAMP:20260424T070107
CREATED:20250221T151318Z
LAST-MODIFIED:20250322T023040Z
UID:10005908-1882473300-1882473900@masjidomarharvey.org
SUMMARY:Lessons After Isha with the Sheikh
DESCRIPTION:Come learn various Islamic lessons every day of the week\, with the following topics for each day: \n\nMonday: Ruling lessons (Political)\nTuesday: Interpretation of the Quran\nWednesday: Creed through the Prophetic Biography\nFriday: Youth Circle\nSaturday: Jurisprudence\nSunday: Lessons for the Youth
URL:https://masjidomarharvey.org/event/lessons-after-isha-with-the-shiekh/2029-08-26/
LOCATION:Masjid Omar\, 1528 Pietro Ct.\, Harvey\, LA\, 70058\, United States
CATEGORIES:All Programs,Kid's Programs,Men's Programs,Seminars,Women Programs
END:VEVENT
BEGIN:VEVENT
DTSTART;TZID=America/Chicago:20290827T211500
DTEND;TZID=America/Chicago:20290827T212500
DTSTAMP:20260424T070107
CREATED:20250221T151318Z
LAST-MODIFIED:20250322T023040Z
UID:10005909-1882559700-1882560300@masjidomarharvey.org
SUMMARY:Lessons After Isha with the Sheikh
DESCRIPTION:Come learn various Islamic lessons every day of the week\, with the following topics for each day: \n\nMonday: Ruling lessons (Political)\nTuesday: Interpretation of the Quran\nWednesday: Creed through the Prophetic Biography\nFriday: Youth Circle\nSaturday: Jurisprudence\nSunday: Lessons for the Youth
URL:https://masjidomarharvey.org/event/lessons-after-isha-with-the-shiekh/2029-08-27/
LOCATION:Masjid Omar\, 1528 Pietro Ct.\, Harvey\, LA\, 70058\, United States
CATEGORIES:All Programs,Kid's Programs,Men's Programs,Seminars,Women Programs
END:VEVENT
BEGIN:VEVENT
DTSTART;TZID=America/Chicago:20290828T170000
DTEND;TZID=America/Chicago:20290828T190000
DTSTAMP:20260424T070107
CREATED:20250221T151720Z
LAST-MODIFIED:20250221T151720Z
UID:10004050-1882630800-1882638000@masjidomarharvey.org
SUMMARY:Jiu-Jitsu for Kids
DESCRIPTION:
URL:https://masjidomarharvey.org/event/jiu-jitsu-for-kids/2029-08-28/
LOCATION:Masjid Omar\, 1528 Pietro Ct.\, Harvey\, LA\, 70058\, United States
CATEGORIES:All Programs,Kid's Programs,Sports Events
END:VEVENT
BEGIN:VEVENT
DTSTART;TZID=America/Chicago:20290828T211500
DTEND;TZID=America/Chicago:20290828T212500
DTSTAMP:20260424T070107
CREATED:20250221T151318Z
LAST-MODIFIED:20250322T023040Z
UID:10005910-1882646100-1882646700@masjidomarharvey.org
SUMMARY:Lessons After Isha with the Sheikh
DESCRIPTION:Come learn various Islamic lessons every day of the week\, with the following topics for each day: \n\nMonday: Ruling lessons (Political)\nTuesday: Interpretation of the Quran\nWednesday: Creed through the Prophetic Biography\nFriday: Youth Circle\nSaturday: Jurisprudence\nSunday: Lessons for the Youth
URL:https://masjidomarharvey.org/event/lessons-after-isha-with-the-shiekh/2029-08-28/
LOCATION:Masjid Omar\, 1528 Pietro Ct.\, Harvey\, LA\, 70058\, United States
CATEGORIES:All Programs,Kid's Programs,Men's Programs,Seminars,Women Programs
END:VEVENT
BEGIN:VEVENT
DTSTART;TZID=America/Chicago:20290829T211500
DTEND;TZID=America/Chicago:20290829T212500
DTSTAMP:20260424T070107
CREATED:20250221T151318Z
LAST-MODIFIED:20250322T023040Z
UID:10005911-1882732500-1882733100@masjidomarharvey.org
SUMMARY:Lessons After Isha with the Sheikh
DESCRIPTION:Come learn various Islamic lessons every day of the week\, with the following topics for each day: \n\nMonday: Ruling lessons (Political)\nTuesday: Interpretation of the Quran\nWednesday: Creed through the Prophetic Biography\nFriday: Youth Circle\nSaturday: Jurisprudence\nSunday: Lessons for the Youth
URL:https://masjidomarharvey.org/event/lessons-after-isha-with-the-shiekh/2029-08-29/
LOCATION:Masjid Omar\, 1528 Pietro Ct.\, Harvey\, LA\, 70058\, United States
CATEGORIES:All Programs,Kid's Programs,Men's Programs,Seminars,Women Programs
END:VEVENT
BEGIN:VEVENT
DTSTART;TZID=America/Chicago:20290830T170000
DTEND;TZID=America/Chicago:20290830T190000
DTSTAMP:20260424T070107
CREATED:20250221T151720Z
LAST-MODIFIED:20250221T151720Z
UID:10004051-1882803600-1882810800@masjidomarharvey.org
SUMMARY:Jiu-Jitsu for Kids
DESCRIPTION:
URL:https://masjidomarharvey.org/event/jiu-jitsu-for-kids/2029-08-30/
LOCATION:Masjid Omar\, 1528 Pietro Ct.\, Harvey\, LA\, 70058\, United States
CATEGORIES:All Programs,Kid's Programs,Sports Events
END:VEVENT
BEGIN:VEVENT
DTSTART;TZID=America/Chicago:20290831T170000
DTEND;TZID=America/Chicago:20290831T190000
DTSTAMP:20260424T070107
CREATED:20250221T144745Z
LAST-MODIFIED:20250221T144745Z
UID:10000436-1882890000-1882897200@masjidomarharvey.org
SUMMARY:Islamic Ethics and More (For Females)
DESCRIPTION:Goes over the following: \n\nStories of the Prophets and Role Models\nAl-Tahawiyyah Creed\nIslamic Ethics\nTajweed
URL:https://masjidomarharvey.org/event/islamic-ethics-and-more-for-females/2029-08-31/
LOCATION:LA
CATEGORIES:All Programs,Kid's Programs,Women Programs
END:VEVENT
BEGIN:VEVENT
DTSTART;TZID=America/Chicago:20290831T211500
DTEND;TZID=America/Chicago:20290831T212500
DTSTAMP:20260424T070107
CREATED:20250221T151318Z
LAST-MODIFIED:20250322T023040Z
UID:10005912-1882905300-1882905900@masjidomarharvey.org
SUMMARY:Lessons After Isha with the Sheikh
DESCRIPTION:Come learn various Islamic lessons every day of the week\, with the following topics for each day: \n\nMonday: Ruling lessons (Political)\nTuesday: Interpretation of the Quran\nWednesday: Creed through the Prophetic Biography\nFriday: Youth Circle\nSaturday: Jurisprudence\nSunday: Lessons for the Youth
URL:https://masjidomarharvey.org/event/lessons-after-isha-with-the-shiekh/2029-08-31/
LOCATION:Masjid Omar\, 1528 Pietro Ct.\, Harvey\, LA\, 70058\, United States
CATEGORIES:All Programs,Kid's Programs,Men's Programs,Seminars,Women Programs
END:VEVENT
BEGIN:VEVENT
DTSTART;TZID=America/Chicago:20290901T091500
DTEND;TZID=America/Chicago:20290901T134500
DTSTAMP:20260424T070107
CREATED:20250221T145401Z
LAST-MODIFIED:20250221T145415Z
UID:10000844-1882948500-1882964700@masjidomarharvey.org
SUMMARY:Saturday School for Kids
DESCRIPTION:Come register to have your kids learn the religion of Islam\, Quran\, and the Arabic Language
URL:https://masjidomarharvey.org/event/saturday-school-for-kids/2029-09-01/
LOCATION:Masjid Omar\, 1528 Pietro Ct.\, Harvey\, LA\, 70058\, United States
CATEGORIES:All Programs,Kid's Programs,Seminars
END:VEVENT
BEGIN:VEVENT
DTSTART;TZID=America/Chicago:20290901T170000
DTEND;TZID=America/Chicago:20290901T190000
DTSTAMP:20260424T070107
CREATED:20250221T151720Z
LAST-MODIFIED:20250221T151720Z
UID:10004052-1882976400-1882983600@masjidomarharvey.org
SUMMARY:Jiu-Jitsu for Kids
DESCRIPTION:
URL:https://masjidomarharvey.org/event/jiu-jitsu-for-kids/2029-09-01/
LOCATION:Masjid Omar\, 1528 Pietro Ct.\, Harvey\, LA\, 70058\, United States
CATEGORIES:All Programs,Kid's Programs,Sports Events
END:VEVENT
BEGIN:VEVENT
DTSTART;TZID=America/Chicago:20290901T211500
DTEND;TZID=America/Chicago:20290901T212500
DTSTAMP:20260424T070107
CREATED:20250221T151318Z
LAST-MODIFIED:20250322T023040Z
UID:10005913-1882991700-1882992300@masjidomarharvey.org
SUMMARY:Lessons After Isha with the Sheikh
DESCRIPTION:Come learn various Islamic lessons every day of the week\, with the following topics for each day: \n\nMonday: Ruling lessons (Political)\nTuesday: Interpretation of the Quran\nWednesday: Creed through the Prophetic Biography\nFriday: Youth Circle\nSaturday: Jurisprudence\nSunday: Lessons for the Youth
URL:https://masjidomarharvey.org/event/lessons-after-isha-with-the-shiekh/2029-09-01/
LOCATION:Masjid Omar\, 1528 Pietro Ct.\, Harvey\, LA\, 70058\, United States
CATEGORIES:All Programs,Kid's Programs,Men's Programs,Seminars,Women Programs
END:VEVENT
BEGIN:VEVENT
DTSTART;TZID=America/Chicago:20290902T211500
DTEND;TZID=America/Chicago:20290902T212500
DTSTAMP:20260424T070107
CREATED:20250221T151318Z
LAST-MODIFIED:20250322T023040Z
UID:10005914-1883078100-1883078700@masjidomarharvey.org
SUMMARY:Lessons After Isha with the Sheikh
DESCRIPTION:Come learn various Islamic lessons every day of the week\, with the following topics for each day: \n\nMonday: Ruling lessons (Political)\nTuesday: Interpretation of the Quran\nWednesday: Creed through the Prophetic Biography\nFriday: Youth Circle\nSaturday: Jurisprudence\nSunday: Lessons for the Youth
URL:https://masjidomarharvey.org/event/lessons-after-isha-with-the-shiekh/2029-09-02/
LOCATION:Masjid Omar\, 1528 Pietro Ct.\, Harvey\, LA\, 70058\, United States
CATEGORIES:All Programs,Kid's Programs,Men's Programs,Seminars,Women Programs
END:VEVENT
BEGIN:VEVENT
DTSTART;TZID=America/Chicago:20290903T211500
DTEND;TZID=America/Chicago:20290903T212500
DTSTAMP:20260424T070107
CREATED:20250221T151318Z
LAST-MODIFIED:20250322T023040Z
UID:10005915-1883164500-1883165100@masjidomarharvey.org
SUMMARY:Lessons After Isha with the Sheikh
DESCRIPTION:Come learn various Islamic lessons every day of the week\, with the following topics for each day: \n\nMonday: Ruling lessons (Political)\nTuesday: Interpretation of the Quran\nWednesday: Creed through the Prophetic Biography\nFriday: Youth Circle\nSaturday: Jurisprudence\nSunday: Lessons for the Youth
URL:https://masjidomarharvey.org/event/lessons-after-isha-with-the-shiekh/2029-09-03/
LOCATION:Masjid Omar\, 1528 Pietro Ct.\, Harvey\, LA\, 70058\, United States
CATEGORIES:All Programs,Kid's Programs,Men's Programs,Seminars,Women Programs
END:VEVENT
BEGIN:VEVENT
DTSTART;TZID=America/Chicago:20290904T170000
DTEND;TZID=America/Chicago:20290904T190000
DTSTAMP:20260424T070107
CREATED:20250221T151720Z
LAST-MODIFIED:20250221T151720Z
UID:10004053-1883235600-1883242800@masjidomarharvey.org
SUMMARY:Jiu-Jitsu for Kids
DESCRIPTION:
URL:https://masjidomarharvey.org/event/jiu-jitsu-for-kids/2029-09-04/
LOCATION:Masjid Omar\, 1528 Pietro Ct.\, Harvey\, LA\, 70058\, United States
CATEGORIES:All Programs,Kid's Programs,Sports Events
END:VEVENT
BEGIN:VEVENT
DTSTART;TZID=America/Chicago:20290904T211500
DTEND;TZID=America/Chicago:20290904T212500
DTSTAMP:20260424T070107
CREATED:20250221T151318Z
LAST-MODIFIED:20250322T023040Z
UID:10005916-1883250900-1883251500@masjidomarharvey.org
SUMMARY:Lessons After Isha with the Sheikh
DESCRIPTION:Come learn various Islamic lessons every day of the week\, with the following topics for each day: \n\nMonday: Ruling lessons (Political)\nTuesday: Interpretation of the Quran\nWednesday: Creed through the Prophetic Biography\nFriday: Youth Circle\nSaturday: Jurisprudence\nSunday: Lessons for the Youth
URL:https://masjidomarharvey.org/event/lessons-after-isha-with-the-shiekh/2029-09-04/
LOCATION:Masjid Omar\, 1528 Pietro Ct.\, Harvey\, LA\, 70058\, United States
CATEGORIES:All Programs,Kid's Programs,Men's Programs,Seminars,Women Programs
END:VEVENT
END:VCALENDAR