BEGIN:VCALENDAR
VERSION:2.0
PRODID:-//Masjid Omar - ECPv6.9.0//NONSGML v1.0//EN
CALSCALE:GREGORIAN
METHOD:PUBLISH
X-ORIGINAL-URL:https://masjidomarharvey.org
X-WR-CALDESC:Events for Masjid Omar
REFRESH-INTERVAL;VALUE=DURATION:PT1H
X-Robots-Tag:noindex
X-PUBLISHED-TTL:PT1H
BEGIN:VTIMEZONE
TZID:America/Chicago
BEGIN:DAYLIGHT
TZOFFSETFROM:-0600
TZOFFSETTO:-0500
TZNAME:CDT
DTSTART:20290311T080000
END:DAYLIGHT
BEGIN:STANDARD
TZOFFSETFROM:-0500
TZOFFSETTO:-0600
TZNAME:CST
DTSTART:20291104T070000
END:STANDARD
BEGIN:DAYLIGHT
TZOFFSETFROM:-0600
TZOFFSETTO:-0500
TZNAME:CDT
DTSTART:20300310T080000
END:DAYLIGHT
BEGIN:STANDARD
TZOFFSETFROM:-0500
TZOFFSETTO:-0600
TZNAME:CST
DTSTART:20301103T070000
END:STANDARD
END:VTIMEZONE
BEGIN:VEVENT
DTSTART;TZID=America/Chicago:20291223T211500
DTEND;TZID=America/Chicago:20291223T212500
DTSTAMP:20260425T133205
CREATED:20250221T151318Z
LAST-MODIFIED:20250322T023040Z
UID:10006010-1892754900-1892755500@masjidomarharvey.org
SUMMARY:Lessons After Isha with the Sheikh
DESCRIPTION:Come learn various Islamic lessons every day of the week\, with the following topics for each day: \n\nMonday: Ruling lessons (Political)\nTuesday: Interpretation of the Quran\nWednesday: Creed through the Prophetic Biography\nFriday: Youth Circle\nSaturday: Jurisprudence\nSunday: Lessons for the Youth
URL:https://masjidomarharvey.org/event/lessons-after-isha-with-the-shiekh/2029-12-23/
LOCATION:Masjid Omar\, 1528 Pietro Ct.\, Harvey\, LA\, 70058\, United States
CATEGORIES:All Programs,Kid's Programs,Men's Programs,Seminars,Women Programs
END:VEVENT
BEGIN:VEVENT
DTSTART;TZID=America/Chicago:20291224T211500
DTEND;TZID=America/Chicago:20291224T212500
DTSTAMP:20260425T133205
CREATED:20250221T151318Z
LAST-MODIFIED:20250322T023040Z
UID:10006011-1892841300-1892841900@masjidomarharvey.org
SUMMARY:Lessons After Isha with the Sheikh
DESCRIPTION:Come learn various Islamic lessons every day of the week\, with the following topics for each day: \n\nMonday: Ruling lessons (Political)\nTuesday: Interpretation of the Quran\nWednesday: Creed through the Prophetic Biography\nFriday: Youth Circle\nSaturday: Jurisprudence\nSunday: Lessons for the Youth
URL:https://masjidomarharvey.org/event/lessons-after-isha-with-the-shiekh/2029-12-24/
LOCATION:Masjid Omar\, 1528 Pietro Ct.\, Harvey\, LA\, 70058\, United States
CATEGORIES:All Programs,Kid's Programs,Men's Programs,Seminars,Women Programs
END:VEVENT
BEGIN:VEVENT
DTSTART;TZID=America/Chicago:20291225T170000
DTEND;TZID=America/Chicago:20291225T190000
DTSTAMP:20260425T133205
CREATED:20250221T151720Z
LAST-MODIFIED:20250221T151720Z
UID:10004101-1892912400-1892919600@masjidomarharvey.org
SUMMARY:Jiu-Jitsu for Kids
DESCRIPTION:
URL:https://masjidomarharvey.org/event/jiu-jitsu-for-kids/2029-12-25/
LOCATION:Masjid Omar\, 1528 Pietro Ct.\, Harvey\, LA\, 70058\, United States
CATEGORIES:All Programs,Kid's Programs,Sports Events
END:VEVENT
BEGIN:VEVENT
DTSTART;TZID=America/Chicago:20291225T211500
DTEND;TZID=America/Chicago:20291225T212500
DTSTAMP:20260425T133205
CREATED:20250221T151318Z
LAST-MODIFIED:20250322T023040Z
UID:10006012-1892927700-1892928300@masjidomarharvey.org
SUMMARY:Lessons After Isha with the Sheikh
DESCRIPTION:Come learn various Islamic lessons every day of the week\, with the following topics for each day: \n\nMonday: Ruling lessons (Political)\nTuesday: Interpretation of the Quran\nWednesday: Creed through the Prophetic Biography\nFriday: Youth Circle\nSaturday: Jurisprudence\nSunday: Lessons for the Youth
URL:https://masjidomarharvey.org/event/lessons-after-isha-with-the-shiekh/2029-12-25/
LOCATION:Masjid Omar\, 1528 Pietro Ct.\, Harvey\, LA\, 70058\, United States
CATEGORIES:All Programs,Kid's Programs,Men's Programs,Seminars,Women Programs
END:VEVENT
BEGIN:VEVENT
DTSTART;TZID=America/Chicago:20291226T211500
DTEND;TZID=America/Chicago:20291226T212500
DTSTAMP:20260425T133205
CREATED:20250221T151318Z
LAST-MODIFIED:20250322T023040Z
UID:10006013-1893014100-1893014700@masjidomarharvey.org
SUMMARY:Lessons After Isha with the Sheikh
DESCRIPTION:Come learn various Islamic lessons every day of the week\, with the following topics for each day: \n\nMonday: Ruling lessons (Political)\nTuesday: Interpretation of the Quran\nWednesday: Creed through the Prophetic Biography\nFriday: Youth Circle\nSaturday: Jurisprudence\nSunday: Lessons for the Youth
URL:https://masjidomarharvey.org/event/lessons-after-isha-with-the-shiekh/2029-12-26/
LOCATION:Masjid Omar\, 1528 Pietro Ct.\, Harvey\, LA\, 70058\, United States
CATEGORIES:All Programs,Kid's Programs,Men's Programs,Seminars,Women Programs
END:VEVENT
BEGIN:VEVENT
DTSTART;TZID=America/Chicago:20291227T170000
DTEND;TZID=America/Chicago:20291227T190000
DTSTAMP:20260425T133205
CREATED:20250221T151720Z
LAST-MODIFIED:20250221T151720Z
UID:10004102-1893085200-1893092400@masjidomarharvey.org
SUMMARY:Jiu-Jitsu for Kids
DESCRIPTION:
URL:https://masjidomarharvey.org/event/jiu-jitsu-for-kids/2029-12-27/
LOCATION:Masjid Omar\, 1528 Pietro Ct.\, Harvey\, LA\, 70058\, United States
CATEGORIES:All Programs,Kid's Programs,Sports Events
END:VEVENT
BEGIN:VEVENT
DTSTART;TZID=America/Chicago:20291228T170000
DTEND;TZID=America/Chicago:20291228T190000
DTSTAMP:20260425T133205
CREATED:20250221T144745Z
LAST-MODIFIED:20250221T144745Z
UID:10000453-1893171600-1893178800@masjidomarharvey.org
SUMMARY:Islamic Ethics and More (For Females)
DESCRIPTION:Goes over the following: \n\nStories of the Prophets and Role Models\nAl-Tahawiyyah Creed\nIslamic Ethics\nTajweed
URL:https://masjidomarharvey.org/event/islamic-ethics-and-more-for-females/2029-12-28/
LOCATION:LA
CATEGORIES:All Programs,Kid's Programs,Women Programs
END:VEVENT
BEGIN:VEVENT
DTSTART;TZID=America/Chicago:20291228T211500
DTEND;TZID=America/Chicago:20291228T212500
DTSTAMP:20260425T133205
CREATED:20250221T151318Z
LAST-MODIFIED:20250322T023040Z
UID:10006014-1893186900-1893187500@masjidomarharvey.org
SUMMARY:Lessons After Isha with the Sheikh
DESCRIPTION:Come learn various Islamic lessons every day of the week\, with the following topics for each day: \n\nMonday: Ruling lessons (Political)\nTuesday: Interpretation of the Quran\nWednesday: Creed through the Prophetic Biography\nFriday: Youth Circle\nSaturday: Jurisprudence\nSunday: Lessons for the Youth
URL:https://masjidomarharvey.org/event/lessons-after-isha-with-the-shiekh/2029-12-28/
LOCATION:Masjid Omar\, 1528 Pietro Ct.\, Harvey\, LA\, 70058\, United States
CATEGORIES:All Programs,Kid's Programs,Men's Programs,Seminars,Women Programs
END:VEVENT
BEGIN:VEVENT
DTSTART;TZID=America/Chicago:20291229T091500
DTEND;TZID=America/Chicago:20291229T134500
DTSTAMP:20260425T133205
CREATED:20250221T145401Z
LAST-MODIFIED:20250221T145415Z
UID:10000861-1893230100-1893246300@masjidomarharvey.org
SUMMARY:Saturday School for Kids
DESCRIPTION:Come register to have your kids learn the religion of Islam\, Quran\, and the Arabic Language
URL:https://masjidomarharvey.org/event/saturday-school-for-kids/2029-12-29/
LOCATION:Masjid Omar\, 1528 Pietro Ct.\, Harvey\, LA\, 70058\, United States
CATEGORIES:All Programs,Kid's Programs,Seminars
END:VEVENT
BEGIN:VEVENT
DTSTART;TZID=America/Chicago:20291229T170000
DTEND;TZID=America/Chicago:20291229T190000
DTSTAMP:20260425T133205
CREATED:20250221T151720Z
LAST-MODIFIED:20250221T151720Z
UID:10004103-1893258000-1893265200@masjidomarharvey.org
SUMMARY:Jiu-Jitsu for Kids
DESCRIPTION:
URL:https://masjidomarharvey.org/event/jiu-jitsu-for-kids/2029-12-29/
LOCATION:Masjid Omar\, 1528 Pietro Ct.\, Harvey\, LA\, 70058\, United States
CATEGORIES:All Programs,Kid's Programs,Sports Events
END:VEVENT
BEGIN:VEVENT
DTSTART;TZID=America/Chicago:20291229T211500
DTEND;TZID=America/Chicago:20291229T212500
DTSTAMP:20260425T133205
CREATED:20250221T151318Z
LAST-MODIFIED:20250322T023040Z
UID:10006015-1893273300-1893273900@masjidomarharvey.org
SUMMARY:Lessons After Isha with the Sheikh
DESCRIPTION:Come learn various Islamic lessons every day of the week\, with the following topics for each day: \n\nMonday: Ruling lessons (Political)\nTuesday: Interpretation of the Quran\nWednesday: Creed through the Prophetic Biography\nFriday: Youth Circle\nSaturday: Jurisprudence\nSunday: Lessons for the Youth
URL:https://masjidomarharvey.org/event/lessons-after-isha-with-the-shiekh/2029-12-29/
LOCATION:Masjid Omar\, 1528 Pietro Ct.\, Harvey\, LA\, 70058\, United States
CATEGORIES:All Programs,Kid's Programs,Men's Programs,Seminars,Women Programs
END:VEVENT
BEGIN:VEVENT
DTSTART;TZID=America/Chicago:20291230T211500
DTEND;TZID=America/Chicago:20291230T212500
DTSTAMP:20260425T133205
CREATED:20250221T151318Z
LAST-MODIFIED:20250322T023040Z
UID:10006016-1893359700-1893360300@masjidomarharvey.org
SUMMARY:Lessons After Isha with the Sheikh
DESCRIPTION:Come learn various Islamic lessons every day of the week\, with the following topics for each day: \n\nMonday: Ruling lessons (Political)\nTuesday: Interpretation of the Quran\nWednesday: Creed through the Prophetic Biography\nFriday: Youth Circle\nSaturday: Jurisprudence\nSunday: Lessons for the Youth
URL:https://masjidomarharvey.org/event/lessons-after-isha-with-the-shiekh/2029-12-30/
LOCATION:Masjid Omar\, 1528 Pietro Ct.\, Harvey\, LA\, 70058\, United States
CATEGORIES:All Programs,Kid's Programs,Men's Programs,Seminars,Women Programs
END:VEVENT
BEGIN:VEVENT
DTSTART;TZID=America/Chicago:20291231T211500
DTEND;TZID=America/Chicago:20291231T212500
DTSTAMP:20260425T133205
CREATED:20250221T151318Z
LAST-MODIFIED:20250322T023040Z
UID:10006017-1893446100-1893446700@masjidomarharvey.org
SUMMARY:Lessons After Isha with the Sheikh
DESCRIPTION:Come learn various Islamic lessons every day of the week\, with the following topics for each day: \n\nMonday: Ruling lessons (Political)\nTuesday: Interpretation of the Quran\nWednesday: Creed through the Prophetic Biography\nFriday: Youth Circle\nSaturday: Jurisprudence\nSunday: Lessons for the Youth
URL:https://masjidomarharvey.org/event/lessons-after-isha-with-the-shiekh/2029-12-31/
LOCATION:Masjid Omar\, 1528 Pietro Ct.\, Harvey\, LA\, 70058\, United States
CATEGORIES:All Programs,Kid's Programs,Men's Programs,Seminars,Women Programs
END:VEVENT
BEGIN:VEVENT
DTSTART;TZID=America/Chicago:20300101T170000
DTEND;TZID=America/Chicago:20300101T190000
DTSTAMP:20260425T133205
CREATED:20250221T151720Z
LAST-MODIFIED:20250221T151720Z
UID:10004104-1893517200-1893524400@masjidomarharvey.org
SUMMARY:Jiu-Jitsu for Kids
DESCRIPTION:
URL:https://masjidomarharvey.org/event/jiu-jitsu-for-kids/2030-01-01/
LOCATION:Masjid Omar\, 1528 Pietro Ct.\, Harvey\, LA\, 70058\, United States
CATEGORIES:All Programs,Kid's Programs,Sports Events
END:VEVENT
BEGIN:VEVENT
DTSTART;TZID=America/Chicago:20300101T211500
DTEND;TZID=America/Chicago:20300101T212500
DTSTAMP:20260425T133205
CREATED:20250221T151318Z
LAST-MODIFIED:20250322T023040Z
UID:10006018-1893532500-1893533100@masjidomarharvey.org
SUMMARY:Lessons After Isha with the Sheikh
DESCRIPTION:Come learn various Islamic lessons every day of the week\, with the following topics for each day: \n\nMonday: Ruling lessons (Political)\nTuesday: Interpretation of the Quran\nWednesday: Creed through the Prophetic Biography\nFriday: Youth Circle\nSaturday: Jurisprudence\nSunday: Lessons for the Youth
URL:https://masjidomarharvey.org/event/lessons-after-isha-with-the-shiekh/2030-01-01/
LOCATION:Masjid Omar\, 1528 Pietro Ct.\, Harvey\, LA\, 70058\, United States
CATEGORIES:All Programs,Kid's Programs,Men's Programs,Seminars,Women Programs
END:VEVENT
BEGIN:VEVENT
DTSTART;TZID=America/Chicago:20300102T211500
DTEND;TZID=America/Chicago:20300102T212500
DTSTAMP:20260425T133205
CREATED:20250221T151318Z
LAST-MODIFIED:20250322T023040Z
UID:10006019-1893618900-1893619500@masjidomarharvey.org
SUMMARY:Lessons After Isha with the Sheikh
DESCRIPTION:Come learn various Islamic lessons every day of the week\, with the following topics for each day: \n\nMonday: Ruling lessons (Political)\nTuesday: Interpretation of the Quran\nWednesday: Creed through the Prophetic Biography\nFriday: Youth Circle\nSaturday: Jurisprudence\nSunday: Lessons for the Youth
URL:https://masjidomarharvey.org/event/lessons-after-isha-with-the-shiekh/2030-01-02/
LOCATION:Masjid Omar\, 1528 Pietro Ct.\, Harvey\, LA\, 70058\, United States
CATEGORIES:All Programs,Kid's Programs,Men's Programs,Seminars,Women Programs
END:VEVENT
BEGIN:VEVENT
DTSTART;TZID=America/Chicago:20300103T170000
DTEND;TZID=America/Chicago:20300103T190000
DTSTAMP:20260425T133205
CREATED:20250221T151720Z
LAST-MODIFIED:20250221T151720Z
UID:10004105-1893690000-1893697200@masjidomarharvey.org
SUMMARY:Jiu-Jitsu for Kids
DESCRIPTION:
URL:https://masjidomarharvey.org/event/jiu-jitsu-for-kids/2030-01-03/
LOCATION:Masjid Omar\, 1528 Pietro Ct.\, Harvey\, LA\, 70058\, United States
CATEGORIES:All Programs,Kid's Programs,Sports Events
END:VEVENT
BEGIN:VEVENT
DTSTART;TZID=America/Chicago:20300104T170000
DTEND;TZID=America/Chicago:20300104T190000
DTSTAMP:20260425T133205
CREATED:20250221T144745Z
LAST-MODIFIED:20250221T144745Z
UID:10000454-1893776400-1893783600@masjidomarharvey.org
SUMMARY:Islamic Ethics and More (For Females)
DESCRIPTION:Goes over the following: \n\nStories of the Prophets and Role Models\nAl-Tahawiyyah Creed\nIslamic Ethics\nTajweed
URL:https://masjidomarharvey.org/event/islamic-ethics-and-more-for-females/2030-01-04/
LOCATION:LA
CATEGORIES:All Programs,Kid's Programs,Women Programs
END:VEVENT
BEGIN:VEVENT
DTSTART;TZID=America/Chicago:20300104T211500
DTEND;TZID=America/Chicago:20300104T212500
DTSTAMP:20260425T133205
CREATED:20250221T151318Z
LAST-MODIFIED:20250322T023040Z
UID:10006020-1893791700-1893792300@masjidomarharvey.org
SUMMARY:Lessons After Isha with the Sheikh
DESCRIPTION:Come learn various Islamic lessons every day of the week\, with the following topics for each day: \n\nMonday: Ruling lessons (Political)\nTuesday: Interpretation of the Quran\nWednesday: Creed through the Prophetic Biography\nFriday: Youth Circle\nSaturday: Jurisprudence\nSunday: Lessons for the Youth
URL:https://masjidomarharvey.org/event/lessons-after-isha-with-the-shiekh/2030-01-04/
LOCATION:Masjid Omar\, 1528 Pietro Ct.\, Harvey\, LA\, 70058\, United States
CATEGORIES:All Programs,Kid's Programs,Men's Programs,Seminars,Women Programs
END:VEVENT
BEGIN:VEVENT
DTSTART;TZID=America/Chicago:20300105T091500
DTEND;TZID=America/Chicago:20300105T134500
DTSTAMP:20260425T133205
CREATED:20250221T145401Z
LAST-MODIFIED:20250221T145415Z
UID:10000862-1893834900-1893851100@masjidomarharvey.org
SUMMARY:Saturday School for Kids
DESCRIPTION:Come register to have your kids learn the religion of Islam\, Quran\, and the Arabic Language
URL:https://masjidomarharvey.org/event/saturday-school-for-kids/2030-01-05/
LOCATION:Masjid Omar\, 1528 Pietro Ct.\, Harvey\, LA\, 70058\, United States
CATEGORIES:All Programs,Kid's Programs,Seminars
END:VEVENT
BEGIN:VEVENT
DTSTART;TZID=America/Chicago:20300105T170000
DTEND;TZID=America/Chicago:20300105T190000
DTSTAMP:20260425T133205
CREATED:20250221T151720Z
LAST-MODIFIED:20250221T151720Z
UID:10004106-1893862800-1893870000@masjidomarharvey.org
SUMMARY:Jiu-Jitsu for Kids
DESCRIPTION:
URL:https://masjidomarharvey.org/event/jiu-jitsu-for-kids/2030-01-05/
LOCATION:Masjid Omar\, 1528 Pietro Ct.\, Harvey\, LA\, 70058\, United States
CATEGORIES:All Programs,Kid's Programs,Sports Events
END:VEVENT
BEGIN:VEVENT
DTSTART;TZID=America/Chicago:20300105T211500
DTEND;TZID=America/Chicago:20300105T212500
DTSTAMP:20260425T133205
CREATED:20250221T151318Z
LAST-MODIFIED:20250322T023040Z
UID:10006021-1893878100-1893878700@masjidomarharvey.org
SUMMARY:Lessons After Isha with the Sheikh
DESCRIPTION:Come learn various Islamic lessons every day of the week\, with the following topics for each day: \n\nMonday: Ruling lessons (Political)\nTuesday: Interpretation of the Quran\nWednesday: Creed through the Prophetic Biography\nFriday: Youth Circle\nSaturday: Jurisprudence\nSunday: Lessons for the Youth
URL:https://masjidomarharvey.org/event/lessons-after-isha-with-the-shiekh/2030-01-05/
LOCATION:Masjid Omar\, 1528 Pietro Ct.\, Harvey\, LA\, 70058\, United States
CATEGORIES:All Programs,Kid's Programs,Men's Programs,Seminars,Women Programs
END:VEVENT
BEGIN:VEVENT
DTSTART;TZID=America/Chicago:20300106T211500
DTEND;TZID=America/Chicago:20300106T212500
DTSTAMP:20260425T133205
CREATED:20250221T151318Z
LAST-MODIFIED:20250322T023040Z
UID:10006022-1893964500-1893965100@masjidomarharvey.org
SUMMARY:Lessons After Isha with the Sheikh
DESCRIPTION:Come learn various Islamic lessons every day of the week\, with the following topics for each day: \n\nMonday: Ruling lessons (Political)\nTuesday: Interpretation of the Quran\nWednesday: Creed through the Prophetic Biography\nFriday: Youth Circle\nSaturday: Jurisprudence\nSunday: Lessons for the Youth
URL:https://masjidomarharvey.org/event/lessons-after-isha-with-the-shiekh/2030-01-06/
LOCATION:Masjid Omar\, 1528 Pietro Ct.\, Harvey\, LA\, 70058\, United States
CATEGORIES:All Programs,Kid's Programs,Men's Programs,Seminars,Women Programs
END:VEVENT
BEGIN:VEVENT
DTSTART;TZID=America/Chicago:20300107T211500
DTEND;TZID=America/Chicago:20300107T212500
DTSTAMP:20260425T133205
CREATED:20250221T151318Z
LAST-MODIFIED:20250322T023040Z
UID:10006023-1894050900-1894051500@masjidomarharvey.org
SUMMARY:Lessons After Isha with the Sheikh
DESCRIPTION:Come learn various Islamic lessons every day of the week\, with the following topics for each day: \n\nMonday: Ruling lessons (Political)\nTuesday: Interpretation of the Quran\nWednesday: Creed through the Prophetic Biography\nFriday: Youth Circle\nSaturday: Jurisprudence\nSunday: Lessons for the Youth
URL:https://masjidomarharvey.org/event/lessons-after-isha-with-the-shiekh/2030-01-07/
LOCATION:Masjid Omar\, 1528 Pietro Ct.\, Harvey\, LA\, 70058\, United States
CATEGORIES:All Programs,Kid's Programs,Men's Programs,Seminars,Women Programs
END:VEVENT
BEGIN:VEVENT
DTSTART;TZID=America/Chicago:20300108T170000
DTEND;TZID=America/Chicago:20300108T190000
DTSTAMP:20260425T133205
CREATED:20250221T151720Z
LAST-MODIFIED:20250221T151720Z
UID:10004107-1894122000-1894129200@masjidomarharvey.org
SUMMARY:Jiu-Jitsu for Kids
DESCRIPTION:
URL:https://masjidomarharvey.org/event/jiu-jitsu-for-kids/2030-01-08/
LOCATION:Masjid Omar\, 1528 Pietro Ct.\, Harvey\, LA\, 70058\, United States
CATEGORIES:All Programs,Kid's Programs,Sports Events
END:VEVENT
BEGIN:VEVENT
DTSTART;TZID=America/Chicago:20300108T211500
DTEND;TZID=America/Chicago:20300108T212500
DTSTAMP:20260425T133205
CREATED:20250221T151318Z
LAST-MODIFIED:20250322T023040Z
UID:10006024-1894137300-1894137900@masjidomarharvey.org
SUMMARY:Lessons After Isha with the Sheikh
DESCRIPTION:Come learn various Islamic lessons every day of the week\, with the following topics for each day: \n\nMonday: Ruling lessons (Political)\nTuesday: Interpretation of the Quran\nWednesday: Creed through the Prophetic Biography\nFriday: Youth Circle\nSaturday: Jurisprudence\nSunday: Lessons for the Youth
URL:https://masjidomarharvey.org/event/lessons-after-isha-with-the-shiekh/2030-01-08/
LOCATION:Masjid Omar\, 1528 Pietro Ct.\, Harvey\, LA\, 70058\, United States
CATEGORIES:All Programs,Kid's Programs,Men's Programs,Seminars,Women Programs
END:VEVENT
BEGIN:VEVENT
DTSTART;TZID=America/Chicago:20300109T211500
DTEND;TZID=America/Chicago:20300109T212500
DTSTAMP:20260425T133205
CREATED:20250221T151318Z
LAST-MODIFIED:20250322T023040Z
UID:10006025-1894223700-1894224300@masjidomarharvey.org
SUMMARY:Lessons After Isha with the Sheikh
DESCRIPTION:Come learn various Islamic lessons every day of the week\, with the following topics for each day: \n\nMonday: Ruling lessons (Political)\nTuesday: Interpretation of the Quran\nWednesday: Creed through the Prophetic Biography\nFriday: Youth Circle\nSaturday: Jurisprudence\nSunday: Lessons for the Youth
URL:https://masjidomarharvey.org/event/lessons-after-isha-with-the-shiekh/2030-01-09/
LOCATION:Masjid Omar\, 1528 Pietro Ct.\, Harvey\, LA\, 70058\, United States
CATEGORIES:All Programs,Kid's Programs,Men's Programs,Seminars,Women Programs
END:VEVENT
BEGIN:VEVENT
DTSTART;TZID=America/Chicago:20300110T170000
DTEND;TZID=America/Chicago:20300110T190000
DTSTAMP:20260425T133205
CREATED:20250221T151720Z
LAST-MODIFIED:20250221T151720Z
UID:10004108-1894294800-1894302000@masjidomarharvey.org
SUMMARY:Jiu-Jitsu for Kids
DESCRIPTION:
URL:https://masjidomarharvey.org/event/jiu-jitsu-for-kids/2030-01-10/
LOCATION:Masjid Omar\, 1528 Pietro Ct.\, Harvey\, LA\, 70058\, United States
CATEGORIES:All Programs,Kid's Programs,Sports Events
END:VEVENT
BEGIN:VEVENT
DTSTART;TZID=America/Chicago:20300111T170000
DTEND;TZID=America/Chicago:20300111T190000
DTSTAMP:20260425T133205
CREATED:20250221T144745Z
LAST-MODIFIED:20250221T144745Z
UID:10000455-1894381200-1894388400@masjidomarharvey.org
SUMMARY:Islamic Ethics and More (For Females)
DESCRIPTION:Goes over the following: \n\nStories of the Prophets and Role Models\nAl-Tahawiyyah Creed\nIslamic Ethics\nTajweed
URL:https://masjidomarharvey.org/event/islamic-ethics-and-more-for-females/2030-01-11/
LOCATION:LA
CATEGORIES:All Programs,Kid's Programs,Women Programs
END:VEVENT
BEGIN:VEVENT
DTSTART;TZID=America/Chicago:20300111T211500
DTEND;TZID=America/Chicago:20300111T212500
DTSTAMP:20260425T133205
CREATED:20250221T151318Z
LAST-MODIFIED:20250322T023040Z
UID:10006026-1894396500-1894397100@masjidomarharvey.org
SUMMARY:Lessons After Isha with the Sheikh
DESCRIPTION:Come learn various Islamic lessons every day of the week\, with the following topics for each day: \n\nMonday: Ruling lessons (Political)\nTuesday: Interpretation of the Quran\nWednesday: Creed through the Prophetic Biography\nFriday: Youth Circle\nSaturday: Jurisprudence\nSunday: Lessons for the Youth
URL:https://masjidomarharvey.org/event/lessons-after-isha-with-the-shiekh/2030-01-11/
LOCATION:Masjid Omar\, 1528 Pietro Ct.\, Harvey\, LA\, 70058\, United States
CATEGORIES:All Programs,Kid's Programs,Men's Programs,Seminars,Women Programs
END:VEVENT
END:VCALENDAR