BEGIN:VCALENDAR
VERSION:2.0
PRODID:-//Masjid Omar - ECPv6.9.0//NONSGML v1.0//EN
CALSCALE:GREGORIAN
METHOD:PUBLISH
X-ORIGINAL-URL:https://masjidomarharvey.org
X-WR-CALDESC:Events for Masjid Omar
REFRESH-INTERVAL;VALUE=DURATION:PT1H
X-Robots-Tag:noindex
X-PUBLISHED-TTL:PT1H
BEGIN:VTIMEZONE
TZID:America/Chicago
BEGIN:DAYLIGHT
TZOFFSETFROM:-0600
TZOFFSETTO:-0500
TZNAME:CDT
DTSTART:20290311T080000
END:DAYLIGHT
BEGIN:STANDARD
TZOFFSETFROM:-0500
TZOFFSETTO:-0600
TZNAME:CST
DTSTART:20291104T070000
END:STANDARD
END:VTIMEZONE
BEGIN:VEVENT
DTSTART;TZID=America/Chicago:20290406T170000
DTEND;TZID=America/Chicago:20290406T190000
DTSTAMP:20260420T005245
CREATED:20250221T144745Z
LAST-MODIFIED:20250221T144745Z
UID:10000415-1870189200-1870196400@masjidomarharvey.org
SUMMARY:Islamic Ethics and More (For Females)
DESCRIPTION:Goes over the following: \n\nStories of the Prophets and Role Models\nAl-Tahawiyyah Creed\nIslamic Ethics\nTajweed
URL:https://masjidomarharvey.org/event/islamic-ethics-and-more-for-females/2029-04-06/
LOCATION:LA
CATEGORIES:All Programs,Kid's Programs,Women Programs
END:VEVENT
BEGIN:VEVENT
DTSTART;TZID=America/Chicago:20290406T211500
DTEND;TZID=America/Chicago:20290406T212500
DTSTAMP:20260420T005245
CREATED:20250221T151318Z
LAST-MODIFIED:20250322T023040Z
UID:10005786-1870204500-1870205100@masjidomarharvey.org
SUMMARY:Lessons After Isha with the Sheikh
DESCRIPTION:Come learn various Islamic lessons every day of the week\, with the following topics for each day: \n\nMonday: Ruling lessons (Political)\nTuesday: Interpretation of the Quran\nWednesday: Creed through the Prophetic Biography\nFriday: Youth Circle\nSaturday: Jurisprudence\nSunday: Lessons for the Youth
URL:https://masjidomarharvey.org/event/lessons-after-isha-with-the-shiekh/2029-04-06/
LOCATION:Masjid Omar\, 1528 Pietro Ct.\, Harvey\, LA\, 70058\, United States
CATEGORIES:All Programs,Kid's Programs,Men's Programs,Seminars,Women Programs
END:VEVENT
BEGIN:VEVENT
DTSTART;TZID=America/Chicago:20290407T091500
DTEND;TZID=America/Chicago:20290407T134500
DTSTAMP:20260420T005245
CREATED:20250221T145401Z
LAST-MODIFIED:20250221T145415Z
UID:10000823-1870247700-1870263900@masjidomarharvey.org
SUMMARY:Saturday School for Kids
DESCRIPTION:Come register to have your kids learn the religion of Islam\, Quran\, and the Arabic Language
URL:https://masjidomarharvey.org/event/saturday-school-for-kids/2029-04-07/
LOCATION:Masjid Omar\, 1528 Pietro Ct.\, Harvey\, LA\, 70058\, United States
CATEGORIES:All Programs,Kid's Programs,Seminars
END:VEVENT
BEGIN:VEVENT
DTSTART;TZID=America/Chicago:20290407T170000
DTEND;TZID=America/Chicago:20290407T190000
DTSTAMP:20260420T005245
CREATED:20250221T151720Z
LAST-MODIFIED:20250221T151720Z
UID:10003989-1870275600-1870282800@masjidomarharvey.org
SUMMARY:Jiu-Jitsu for Kids
DESCRIPTION:
URL:https://masjidomarharvey.org/event/jiu-jitsu-for-kids/2029-04-07/
LOCATION:Masjid Omar\, 1528 Pietro Ct.\, Harvey\, LA\, 70058\, United States
CATEGORIES:All Programs,Kid's Programs,Sports Events
END:VEVENT
BEGIN:VEVENT
DTSTART;TZID=America/Chicago:20290407T211500
DTEND;TZID=America/Chicago:20290407T212500
DTSTAMP:20260420T005245
CREATED:20250221T151318Z
LAST-MODIFIED:20250322T023040Z
UID:10005787-1870290900-1870291500@masjidomarharvey.org
SUMMARY:Lessons After Isha with the Sheikh
DESCRIPTION:Come learn various Islamic lessons every day of the week\, with the following topics for each day: \n\nMonday: Ruling lessons (Political)\nTuesday: Interpretation of the Quran\nWednesday: Creed through the Prophetic Biography\nFriday: Youth Circle\nSaturday: Jurisprudence\nSunday: Lessons for the Youth
URL:https://masjidomarharvey.org/event/lessons-after-isha-with-the-shiekh/2029-04-07/
LOCATION:Masjid Omar\, 1528 Pietro Ct.\, Harvey\, LA\, 70058\, United States
CATEGORIES:All Programs,Kid's Programs,Men's Programs,Seminars,Women Programs
END:VEVENT
BEGIN:VEVENT
DTSTART;TZID=America/Chicago:20290408T060000
DTEND;TZID=America/Chicago:20290408T070000
DTSTAMP:20260420T005245
CREATED:20250221T151420Z
LAST-MODIFIED:20250227T010220Z
UID:10003029-1870322400-1870326000@masjidomarharvey.org
SUMMARY:Quran Reading Circle with the Sheikh
DESCRIPTION:
URL:https://masjidomarharvey.org/event/quran-reading-circle-with-the-shiekh/2029-04-08/
LOCATION:Masjid Omar\, 1528 Pietro Ct.\, Harvey\, LA\, 70058\, United States
CATEGORIES:All Programs,Men's Programs
END:VEVENT
BEGIN:VEVENT
DTSTART;TZID=America/Chicago:20290408T211500
DTEND;TZID=America/Chicago:20290408T212500
DTSTAMP:20260420T005245
CREATED:20250221T151318Z
LAST-MODIFIED:20250322T023040Z
UID:10005788-1870377300-1870377900@masjidomarharvey.org
SUMMARY:Lessons After Isha with the Sheikh
DESCRIPTION:Come learn various Islamic lessons every day of the week\, with the following topics for each day: \n\nMonday: Ruling lessons (Political)\nTuesday: Interpretation of the Quran\nWednesday: Creed through the Prophetic Biography\nFriday: Youth Circle\nSaturday: Jurisprudence\nSunday: Lessons for the Youth
URL:https://masjidomarharvey.org/event/lessons-after-isha-with-the-shiekh/2029-04-08/
LOCATION:Masjid Omar\, 1528 Pietro Ct.\, Harvey\, LA\, 70058\, United States
CATEGORIES:All Programs,Kid's Programs,Men's Programs,Seminars,Women Programs
END:VEVENT
BEGIN:VEVENT
DTSTART;TZID=America/Chicago:20290409T211500
DTEND;TZID=America/Chicago:20290409T212500
DTSTAMP:20260420T005245
CREATED:20250221T151318Z
LAST-MODIFIED:20250322T023040Z
UID:10005789-1870463700-1870464300@masjidomarharvey.org
SUMMARY:Lessons After Isha with the Sheikh
DESCRIPTION:Come learn various Islamic lessons every day of the week\, with the following topics for each day: \n\nMonday: Ruling lessons (Political)\nTuesday: Interpretation of the Quran\nWednesday: Creed through the Prophetic Biography\nFriday: Youth Circle\nSaturday: Jurisprudence\nSunday: Lessons for the Youth
URL:https://masjidomarharvey.org/event/lessons-after-isha-with-the-shiekh/2029-04-09/
LOCATION:Masjid Omar\, 1528 Pietro Ct.\, Harvey\, LA\, 70058\, United States
CATEGORIES:All Programs,Kid's Programs,Men's Programs,Seminars,Women Programs
END:VEVENT
BEGIN:VEVENT
DTSTART;TZID=America/Chicago:20290410T170000
DTEND;TZID=America/Chicago:20290410T190000
DTSTAMP:20260420T005245
CREATED:20250221T151720Z
LAST-MODIFIED:20250221T151720Z
UID:10003990-1870534800-1870542000@masjidomarharvey.org
SUMMARY:Jiu-Jitsu for Kids
DESCRIPTION:
URL:https://masjidomarharvey.org/event/jiu-jitsu-for-kids/2029-04-10/
LOCATION:Masjid Omar\, 1528 Pietro Ct.\, Harvey\, LA\, 70058\, United States
CATEGORIES:All Programs,Kid's Programs,Sports Events
END:VEVENT
BEGIN:VEVENT
DTSTART;TZID=America/Chicago:20290410T211500
DTEND;TZID=America/Chicago:20290410T212500
DTSTAMP:20260420T005245
CREATED:20250221T151318Z
LAST-MODIFIED:20250322T023040Z
UID:10005790-1870550100-1870550700@masjidomarharvey.org
SUMMARY:Lessons After Isha with the Sheikh
DESCRIPTION:Come learn various Islamic lessons every day of the week\, with the following topics for each day: \n\nMonday: Ruling lessons (Political)\nTuesday: Interpretation of the Quran\nWednesday: Creed through the Prophetic Biography\nFriday: Youth Circle\nSaturday: Jurisprudence\nSunday: Lessons for the Youth
URL:https://masjidomarharvey.org/event/lessons-after-isha-with-the-shiekh/2029-04-10/
LOCATION:Masjid Omar\, 1528 Pietro Ct.\, Harvey\, LA\, 70058\, United States
CATEGORIES:All Programs,Kid's Programs,Men's Programs,Seminars,Women Programs
END:VEVENT
BEGIN:VEVENT
DTSTART;TZID=America/Chicago:20290411T211500
DTEND;TZID=America/Chicago:20290411T212500
DTSTAMP:20260420T005245
CREATED:20250221T151318Z
LAST-MODIFIED:20250322T023040Z
UID:10005791-1870636500-1870637100@masjidomarharvey.org
SUMMARY:Lessons After Isha with the Sheikh
DESCRIPTION:Come learn various Islamic lessons every day of the week\, with the following topics for each day: \n\nMonday: Ruling lessons (Political)\nTuesday: Interpretation of the Quran\nWednesday: Creed through the Prophetic Biography\nFriday: Youth Circle\nSaturday: Jurisprudence\nSunday: Lessons for the Youth
URL:https://masjidomarharvey.org/event/lessons-after-isha-with-the-shiekh/2029-04-11/
LOCATION:Masjid Omar\, 1528 Pietro Ct.\, Harvey\, LA\, 70058\, United States
CATEGORIES:All Programs,Kid's Programs,Men's Programs,Seminars,Women Programs
END:VEVENT
BEGIN:VEVENT
DTSTART;TZID=America/Chicago:20290412T170000
DTEND;TZID=America/Chicago:20290412T190000
DTSTAMP:20260420T005245
CREATED:20250221T151720Z
LAST-MODIFIED:20250221T151720Z
UID:10003991-1870707600-1870714800@masjidomarharvey.org
SUMMARY:Jiu-Jitsu for Kids
DESCRIPTION:
URL:https://masjidomarharvey.org/event/jiu-jitsu-for-kids/2029-04-12/
LOCATION:Masjid Omar\, 1528 Pietro Ct.\, Harvey\, LA\, 70058\, United States
CATEGORIES:All Programs,Kid's Programs,Sports Events
END:VEVENT
BEGIN:VEVENT
DTSTART;TZID=America/Chicago:20290412T211500
DTEND;TZID=America/Chicago:20290412T213000
DTSTAMP:20260420T005245
CREATED:20250221T151604Z
LAST-MODIFIED:20250322T023114Z
UID:10006304-1870722900-1870723800@masjidomarharvey.org
SUMMARY:New Muslims Thursday
DESCRIPTION:Come learn about your Religion and get to know your fellow reverts! \nEvery Thursday after Isha Prayer
URL:https://masjidomarharvey.org/event/new-muslims-thursday/2029-04-12/
LOCATION:Masjid Omar\, 1528 Pietro Ct.\, Harvey\, LA\, 70058\, United States
CATEGORIES:All Programs,Men's Programs,Women Programs
END:VEVENT
BEGIN:VEVENT
DTSTART;TZID=America/Chicago:20290413T110000
DTEND;TZID=America/Chicago:20290413T120000
DTSTAMP:20260420T005245
CREATED:20250221T145820Z
LAST-MODIFIED:20250221T145820Z
UID:10001135-1870772400-1870776000@masjidomarharvey.org
SUMMARY:Sister Sarmini's Lessons for Unmarried Women
DESCRIPTION:
URL:https://masjidomarharvey.org/event/sister-sarminis-lessons-for-unmarried-women/2029-04-13/
LOCATION:Masjid Omar\, 1528 Pietro Ct.\, Harvey\, LA\, 70058\, United States
CATEGORIES:All Programs,Women Programs
END:VEVENT
BEGIN:VEVENT
DTSTART;TZID=America/Chicago:20290413T170000
DTEND;TZID=America/Chicago:20290413T190000
DTSTAMP:20260420T005245
CREATED:20250221T144745Z
LAST-MODIFIED:20250221T144745Z
UID:10000416-1870794000-1870801200@masjidomarharvey.org
SUMMARY:Islamic Ethics and More (For Females)
DESCRIPTION:Goes over the following: \n\nStories of the Prophets and Role Models\nAl-Tahawiyyah Creed\nIslamic Ethics\nTajweed
URL:https://masjidomarharvey.org/event/islamic-ethics-and-more-for-females/2029-04-13/
LOCATION:LA
CATEGORIES:All Programs,Kid's Programs,Women Programs
END:VEVENT
BEGIN:VEVENT
DTSTART;TZID=America/Chicago:20290413T211500
DTEND;TZID=America/Chicago:20290413T212500
DTSTAMP:20260420T005245
CREATED:20250221T151318Z
LAST-MODIFIED:20250322T023040Z
UID:10005792-1870809300-1870809900@masjidomarharvey.org
SUMMARY:Lessons After Isha with the Sheikh
DESCRIPTION:Come learn various Islamic lessons every day of the week\, with the following topics for each day: \n\nMonday: Ruling lessons (Political)\nTuesday: Interpretation of the Quran\nWednesday: Creed through the Prophetic Biography\nFriday: Youth Circle\nSaturday: Jurisprudence\nSunday: Lessons for the Youth
URL:https://masjidomarharvey.org/event/lessons-after-isha-with-the-shiekh/2029-04-13/
LOCATION:Masjid Omar\, 1528 Pietro Ct.\, Harvey\, LA\, 70058\, United States
CATEGORIES:All Programs,Kid's Programs,Men's Programs,Seminars,Women Programs
END:VEVENT
BEGIN:VEVENT
DTSTART;TZID=America/Chicago:20290414T091500
DTEND;TZID=America/Chicago:20290414T134500
DTSTAMP:20260420T005245
CREATED:20250221T145401Z
LAST-MODIFIED:20250221T145415Z
UID:10000824-1870852500-1870868700@masjidomarharvey.org
SUMMARY:Saturday School for Kids
DESCRIPTION:Come register to have your kids learn the religion of Islam\, Quran\, and the Arabic Language
URL:https://masjidomarharvey.org/event/saturday-school-for-kids/2029-04-14/
LOCATION:Masjid Omar\, 1528 Pietro Ct.\, Harvey\, LA\, 70058\, United States
CATEGORIES:All Programs,Kid's Programs,Seminars
END:VEVENT
BEGIN:VEVENT
DTSTART;TZID=America/Chicago:20290414T170000
DTEND;TZID=America/Chicago:20290414T190000
DTSTAMP:20260420T005245
CREATED:20250221T151720Z
LAST-MODIFIED:20250221T151720Z
UID:10003992-1870880400-1870887600@masjidomarharvey.org
SUMMARY:Jiu-Jitsu for Kids
DESCRIPTION:
URL:https://masjidomarharvey.org/event/jiu-jitsu-for-kids/2029-04-14/
LOCATION:Masjid Omar\, 1528 Pietro Ct.\, Harvey\, LA\, 70058\, United States
CATEGORIES:All Programs,Kid's Programs,Sports Events
END:VEVENT
BEGIN:VEVENT
DTSTART;TZID=America/Chicago:20290414T211500
DTEND;TZID=America/Chicago:20290414T212500
DTSTAMP:20260420T005245
CREATED:20250221T151318Z
LAST-MODIFIED:20250322T023040Z
UID:10005793-1870895700-1870896300@masjidomarharvey.org
SUMMARY:Lessons After Isha with the Sheikh
DESCRIPTION:Come learn various Islamic lessons every day of the week\, with the following topics for each day: \n\nMonday: Ruling lessons (Political)\nTuesday: Interpretation of the Quran\nWednesday: Creed through the Prophetic Biography\nFriday: Youth Circle\nSaturday: Jurisprudence\nSunday: Lessons for the Youth
URL:https://masjidomarharvey.org/event/lessons-after-isha-with-the-shiekh/2029-04-14/
LOCATION:Masjid Omar\, 1528 Pietro Ct.\, Harvey\, LA\, 70058\, United States
CATEGORIES:All Programs,Kid's Programs,Men's Programs,Seminars,Women Programs
END:VEVENT
BEGIN:VEVENT
DTSTART;TZID=America/Chicago:20290415T060000
DTEND;TZID=America/Chicago:20290415T070000
DTSTAMP:20260420T005245
CREATED:20250221T151420Z
LAST-MODIFIED:20250227T010220Z
UID:10003030-1870927200-1870930800@masjidomarharvey.org
SUMMARY:Quran Reading Circle with the Sheikh
DESCRIPTION:
URL:https://masjidomarharvey.org/event/quran-reading-circle-with-the-shiekh/2029-04-15/
LOCATION:Masjid Omar\, 1528 Pietro Ct.\, Harvey\, LA\, 70058\, United States
CATEGORIES:All Programs,Men's Programs
END:VEVENT
BEGIN:VEVENT
DTSTART;TZID=America/Chicago:20290415T211500
DTEND;TZID=America/Chicago:20290415T212500
DTSTAMP:20260420T005245
CREATED:20250221T151318Z
LAST-MODIFIED:20250322T023040Z
UID:10005794-1870982100-1870982700@masjidomarharvey.org
SUMMARY:Lessons After Isha with the Sheikh
DESCRIPTION:Come learn various Islamic lessons every day of the week\, with the following topics for each day: \n\nMonday: Ruling lessons (Political)\nTuesday: Interpretation of the Quran\nWednesday: Creed through the Prophetic Biography\nFriday: Youth Circle\nSaturday: Jurisprudence\nSunday: Lessons for the Youth
URL:https://masjidomarharvey.org/event/lessons-after-isha-with-the-shiekh/2029-04-15/
LOCATION:Masjid Omar\, 1528 Pietro Ct.\, Harvey\, LA\, 70058\, United States
CATEGORIES:All Programs,Kid's Programs,Men's Programs,Seminars,Women Programs
END:VEVENT
BEGIN:VEVENT
DTSTART;TZID=America/Chicago:20290416T211500
DTEND;TZID=America/Chicago:20290416T212500
DTSTAMP:20260420T005245
CREATED:20250221T151318Z
LAST-MODIFIED:20250322T023040Z
UID:10005795-1871068500-1871069100@masjidomarharvey.org
SUMMARY:Lessons After Isha with the Sheikh
DESCRIPTION:Come learn various Islamic lessons every day of the week\, with the following topics for each day: \n\nMonday: Ruling lessons (Political)\nTuesday: Interpretation of the Quran\nWednesday: Creed through the Prophetic Biography\nFriday: Youth Circle\nSaturday: Jurisprudence\nSunday: Lessons for the Youth
URL:https://masjidomarharvey.org/event/lessons-after-isha-with-the-shiekh/2029-04-16/
LOCATION:Masjid Omar\, 1528 Pietro Ct.\, Harvey\, LA\, 70058\, United States
CATEGORIES:All Programs,Kid's Programs,Men's Programs,Seminars,Women Programs
END:VEVENT
BEGIN:VEVENT
DTSTART;TZID=America/Chicago:20290417T170000
DTEND;TZID=America/Chicago:20290417T190000
DTSTAMP:20260420T005245
CREATED:20250221T151720Z
LAST-MODIFIED:20250221T151720Z
UID:10003993-1871139600-1871146800@masjidomarharvey.org
SUMMARY:Jiu-Jitsu for Kids
DESCRIPTION:
URL:https://masjidomarharvey.org/event/jiu-jitsu-for-kids/2029-04-17/
LOCATION:Masjid Omar\, 1528 Pietro Ct.\, Harvey\, LA\, 70058\, United States
CATEGORIES:All Programs,Kid's Programs,Sports Events
END:VEVENT
BEGIN:VEVENT
DTSTART;TZID=America/Chicago:20290417T211500
DTEND;TZID=America/Chicago:20290417T212500
DTSTAMP:20260420T005245
CREATED:20250221T151318Z
LAST-MODIFIED:20250322T023040Z
UID:10005796-1871154900-1871155500@masjidomarharvey.org
SUMMARY:Lessons After Isha with the Sheikh
DESCRIPTION:Come learn various Islamic lessons every day of the week\, with the following topics for each day: \n\nMonday: Ruling lessons (Political)\nTuesday: Interpretation of the Quran\nWednesday: Creed through the Prophetic Biography\nFriday: Youth Circle\nSaturday: Jurisprudence\nSunday: Lessons for the Youth
URL:https://masjidomarharvey.org/event/lessons-after-isha-with-the-shiekh/2029-04-17/
LOCATION:Masjid Omar\, 1528 Pietro Ct.\, Harvey\, LA\, 70058\, United States
CATEGORIES:All Programs,Kid's Programs,Men's Programs,Seminars,Women Programs
END:VEVENT
BEGIN:VEVENT
DTSTART;TZID=America/Chicago:20290418T211500
DTEND;TZID=America/Chicago:20290418T212500
DTSTAMP:20260420T005245
CREATED:20250221T151318Z
LAST-MODIFIED:20250322T023040Z
UID:10005797-1871241300-1871241900@masjidomarharvey.org
SUMMARY:Lessons After Isha with the Sheikh
DESCRIPTION:Come learn various Islamic lessons every day of the week\, with the following topics for each day: \n\nMonday: Ruling lessons (Political)\nTuesday: Interpretation of the Quran\nWednesday: Creed through the Prophetic Biography\nFriday: Youth Circle\nSaturday: Jurisprudence\nSunday: Lessons for the Youth
URL:https://masjidomarharvey.org/event/lessons-after-isha-with-the-shiekh/2029-04-18/
LOCATION:Masjid Omar\, 1528 Pietro Ct.\, Harvey\, LA\, 70058\, United States
CATEGORIES:All Programs,Kid's Programs,Men's Programs,Seminars,Women Programs
END:VEVENT
BEGIN:VEVENT
DTSTART;TZID=America/Chicago:20290419T170000
DTEND;TZID=America/Chicago:20290419T190000
DTSTAMP:20260420T005245
CREATED:20250221T151720Z
LAST-MODIFIED:20250221T151720Z
UID:10003994-1871312400-1871319600@masjidomarharvey.org
SUMMARY:Jiu-Jitsu for Kids
DESCRIPTION:
URL:https://masjidomarharvey.org/event/jiu-jitsu-for-kids/2029-04-19/
LOCATION:Masjid Omar\, 1528 Pietro Ct.\, Harvey\, LA\, 70058\, United States
CATEGORIES:All Programs,Kid's Programs,Sports Events
END:VEVENT
BEGIN:VEVENT
DTSTART;TZID=America/Chicago:20290419T211500
DTEND;TZID=America/Chicago:20290419T213000
DTSTAMP:20260420T005245
CREATED:20250221T151604Z
LAST-MODIFIED:20250322T023114Z
UID:10006305-1871327700-1871328600@masjidomarharvey.org
SUMMARY:New Muslims Thursday
DESCRIPTION:Come learn about your Religion and get to know your fellow reverts! \nEvery Thursday after Isha Prayer
URL:https://masjidomarharvey.org/event/new-muslims-thursday/2029-04-19/
LOCATION:Masjid Omar\, 1528 Pietro Ct.\, Harvey\, LA\, 70058\, United States
CATEGORIES:All Programs,Men's Programs,Women Programs
END:VEVENT
BEGIN:VEVENT
DTSTART;TZID=America/Chicago:20290420T110000
DTEND;TZID=America/Chicago:20290420T120000
DTSTAMP:20260420T005245
CREATED:20250221T145820Z
LAST-MODIFIED:20250221T145820Z
UID:10001136-1871377200-1871380800@masjidomarharvey.org
SUMMARY:Sister Sarmini's Lessons for Unmarried Women
DESCRIPTION:
URL:https://masjidomarharvey.org/event/sister-sarminis-lessons-for-unmarried-women/2029-04-20/
LOCATION:Masjid Omar\, 1528 Pietro Ct.\, Harvey\, LA\, 70058\, United States
CATEGORIES:All Programs,Women Programs
END:VEVENT
BEGIN:VEVENT
DTSTART;TZID=America/Chicago:20290420T170000
DTEND;TZID=America/Chicago:20290420T190000
DTSTAMP:20260420T005245
CREATED:20250221T144745Z
LAST-MODIFIED:20250221T144745Z
UID:10000417-1871398800-1871406000@masjidomarharvey.org
SUMMARY:Islamic Ethics and More (For Females)
DESCRIPTION:Goes over the following: \n\nStories of the Prophets and Role Models\nAl-Tahawiyyah Creed\nIslamic Ethics\nTajweed
URL:https://masjidomarharvey.org/event/islamic-ethics-and-more-for-females/2029-04-20/
LOCATION:LA
CATEGORIES:All Programs,Kid's Programs,Women Programs
END:VEVENT
BEGIN:VEVENT
DTSTART;TZID=America/Chicago:20290420T211500
DTEND;TZID=America/Chicago:20290420T212500
DTSTAMP:20260420T005245
CREATED:20250221T151318Z
LAST-MODIFIED:20250322T023040Z
UID:10005798-1871414100-1871414700@masjidomarharvey.org
SUMMARY:Lessons After Isha with the Sheikh
DESCRIPTION:Come learn various Islamic lessons every day of the week\, with the following topics for each day: \n\nMonday: Ruling lessons (Political)\nTuesday: Interpretation of the Quran\nWednesday: Creed through the Prophetic Biography\nFriday: Youth Circle\nSaturday: Jurisprudence\nSunday: Lessons for the Youth
URL:https://masjidomarharvey.org/event/lessons-after-isha-with-the-shiekh/2029-04-20/
LOCATION:Masjid Omar\, 1528 Pietro Ct.\, Harvey\, LA\, 70058\, United States
CATEGORIES:All Programs,Kid's Programs,Men's Programs,Seminars,Women Programs
END:VEVENT
END:VCALENDAR