BEGIN:VCALENDAR
VERSION:2.0
PRODID:-//Masjid Omar - ECPv6.9.0//NONSGML v1.0//EN
CALSCALE:GREGORIAN
METHOD:PUBLISH
X-ORIGINAL-URL:https://masjidomarharvey.org
X-WR-CALDESC:Events for Masjid Omar
REFRESH-INTERVAL;VALUE=DURATION:PT1H
X-Robots-Tag:noindex
X-PUBLISHED-TTL:PT1H
BEGIN:VTIMEZONE
TZID:America/Chicago
BEGIN:DAYLIGHT
TZOFFSETFROM:-0600
TZOFFSETTO:-0500
TZNAME:CDT
DTSTART:20290311T080000
END:DAYLIGHT
BEGIN:STANDARD
TZOFFSETFROM:-0500
TZOFFSETTO:-0600
TZNAME:CST
DTSTART:20291104T070000
END:STANDARD
END:VTIMEZONE
BEGIN:VEVENT
DTSTART;TZID=America/Chicago:20290607T170000
DTEND;TZID=America/Chicago:20290607T190000
DTSTAMP:20260422T170052
CREATED:20250221T151720Z
LAST-MODIFIED:20250221T151720Z
UID:10004015-1875546000-1875553200@masjidomarharvey.org
SUMMARY:Jiu-Jitsu for Kids
DESCRIPTION:
URL:https://masjidomarharvey.org/event/jiu-jitsu-for-kids/2029-06-07/
LOCATION:Masjid Omar\, 1528 Pietro Ct.\, Harvey\, LA\, 70058\, United States
CATEGORIES:All Programs,Kid's Programs,Sports Events
END:VEVENT
BEGIN:VEVENT
DTSTART;TZID=America/Chicago:20290607T211500
DTEND;TZID=America/Chicago:20290607T213000
DTSTAMP:20260422T170052
CREATED:20250221T151604Z
LAST-MODIFIED:20250322T023114Z
UID:10006312-1875561300-1875562200@masjidomarharvey.org
SUMMARY:New Muslims Thursday
DESCRIPTION:Come learn about your Religion and get to know your fellow reverts! \nEvery Thursday after Isha Prayer
URL:https://masjidomarharvey.org/event/new-muslims-thursday/2029-06-07/
LOCATION:Masjid Omar\, 1528 Pietro Ct.\, Harvey\, LA\, 70058\, United States
CATEGORIES:All Programs,Men's Programs,Women Programs
END:VEVENT
BEGIN:VEVENT
DTSTART;TZID=America/Chicago:20290608T110000
DTEND;TZID=America/Chicago:20290608T120000
DTSTAMP:20260422T170052
CREATED:20250221T145820Z
LAST-MODIFIED:20250221T145820Z
UID:10001143-1875610800-1875614400@masjidomarharvey.org
SUMMARY:Sister Sarmini's Lessons for Unmarried Women
DESCRIPTION:
URL:https://masjidomarharvey.org/event/sister-sarminis-lessons-for-unmarried-women/2029-06-08/
LOCATION:Masjid Omar\, 1528 Pietro Ct.\, Harvey\, LA\, 70058\, United States
CATEGORIES:All Programs,Women Programs
END:VEVENT
BEGIN:VEVENT
DTSTART;TZID=America/Chicago:20290608T170000
DTEND;TZID=America/Chicago:20290608T190000
DTSTAMP:20260422T170052
CREATED:20250221T144745Z
LAST-MODIFIED:20250221T144745Z
UID:10000424-1875632400-1875639600@masjidomarharvey.org
SUMMARY:Islamic Ethics and More (For Females)
DESCRIPTION:Goes over the following: \n\nStories of the Prophets and Role Models\nAl-Tahawiyyah Creed\nIslamic Ethics\nTajweed
URL:https://masjidomarharvey.org/event/islamic-ethics-and-more-for-females/2029-06-08/
LOCATION:LA
CATEGORIES:All Programs,Kid's Programs,Women Programs
END:VEVENT
BEGIN:VEVENT
DTSTART;TZID=America/Chicago:20290608T211500
DTEND;TZID=America/Chicago:20290608T212500
DTSTAMP:20260422T170052
CREATED:20250221T151318Z
LAST-MODIFIED:20250322T023040Z
UID:10005840-1875647700-1875648300@masjidomarharvey.org
SUMMARY:Lessons After Isha with the Sheikh
DESCRIPTION:Come learn various Islamic lessons every day of the week\, with the following topics for each day: \n\nMonday: Ruling lessons (Political)\nTuesday: Interpretation of the Quran\nWednesday: Creed through the Prophetic Biography\nFriday: Youth Circle\nSaturday: Jurisprudence\nSunday: Lessons for the Youth
URL:https://masjidomarharvey.org/event/lessons-after-isha-with-the-shiekh/2029-06-08/
LOCATION:Masjid Omar\, 1528 Pietro Ct.\, Harvey\, LA\, 70058\, United States
CATEGORIES:All Programs,Kid's Programs,Men's Programs,Seminars,Women Programs
END:VEVENT
BEGIN:VEVENT
DTSTART;TZID=America/Chicago:20290609T091500
DTEND;TZID=America/Chicago:20290609T134500
DTSTAMP:20260422T170052
CREATED:20250221T145401Z
LAST-MODIFIED:20250221T145415Z
UID:10000832-1875690900-1875707100@masjidomarharvey.org
SUMMARY:Saturday School for Kids
DESCRIPTION:Come register to have your kids learn the religion of Islam\, Quran\, and the Arabic Language
URL:https://masjidomarharvey.org/event/saturday-school-for-kids/2029-06-09/
LOCATION:Masjid Omar\, 1528 Pietro Ct.\, Harvey\, LA\, 70058\, United States
CATEGORIES:All Programs,Kid's Programs,Seminars
END:VEVENT
BEGIN:VEVENT
DTSTART;TZID=America/Chicago:20290609T170000
DTEND;TZID=America/Chicago:20290609T190000
DTSTAMP:20260422T170052
CREATED:20250221T151720Z
LAST-MODIFIED:20250221T151720Z
UID:10004016-1875718800-1875726000@masjidomarharvey.org
SUMMARY:Jiu-Jitsu for Kids
DESCRIPTION:
URL:https://masjidomarharvey.org/event/jiu-jitsu-for-kids/2029-06-09/
LOCATION:Masjid Omar\, 1528 Pietro Ct.\, Harvey\, LA\, 70058\, United States
CATEGORIES:All Programs,Kid's Programs,Sports Events
END:VEVENT
BEGIN:VEVENT
DTSTART;TZID=America/Chicago:20290609T211500
DTEND;TZID=America/Chicago:20290609T212500
DTSTAMP:20260422T170052
CREATED:20250221T151318Z
LAST-MODIFIED:20250322T023040Z
UID:10005841-1875734100-1875734700@masjidomarharvey.org
SUMMARY:Lessons After Isha with the Sheikh
DESCRIPTION:Come learn various Islamic lessons every day of the week\, with the following topics for each day: \n\nMonday: Ruling lessons (Political)\nTuesday: Interpretation of the Quran\nWednesday: Creed through the Prophetic Biography\nFriday: Youth Circle\nSaturday: Jurisprudence\nSunday: Lessons for the Youth
URL:https://masjidomarharvey.org/event/lessons-after-isha-with-the-shiekh/2029-06-09/
LOCATION:Masjid Omar\, 1528 Pietro Ct.\, Harvey\, LA\, 70058\, United States
CATEGORIES:All Programs,Kid's Programs,Men's Programs,Seminars,Women Programs
END:VEVENT
BEGIN:VEVENT
DTSTART;TZID=America/Chicago:20290610T060000
DTEND;TZID=America/Chicago:20290610T070000
DTSTAMP:20260422T170052
CREATED:20250221T151420Z
LAST-MODIFIED:20250227T010220Z
UID:10003038-1875765600-1875769200@masjidomarharvey.org
SUMMARY:Quran Reading Circle with the Sheikh
DESCRIPTION:
URL:https://masjidomarharvey.org/event/quran-reading-circle-with-the-shiekh/2029-06-10/
LOCATION:Masjid Omar\, 1528 Pietro Ct.\, Harvey\, LA\, 70058\, United States
CATEGORIES:All Programs,Men's Programs
END:VEVENT
BEGIN:VEVENT
DTSTART;TZID=America/Chicago:20290610T211500
DTEND;TZID=America/Chicago:20290610T212500
DTSTAMP:20260422T170052
CREATED:20250221T151318Z
LAST-MODIFIED:20250322T023040Z
UID:10005842-1875820500-1875821100@masjidomarharvey.org
SUMMARY:Lessons After Isha with the Sheikh
DESCRIPTION:Come learn various Islamic lessons every day of the week\, with the following topics for each day: \n\nMonday: Ruling lessons (Political)\nTuesday: Interpretation of the Quran\nWednesday: Creed through the Prophetic Biography\nFriday: Youth Circle\nSaturday: Jurisprudence\nSunday: Lessons for the Youth
URL:https://masjidomarharvey.org/event/lessons-after-isha-with-the-shiekh/2029-06-10/
LOCATION:Masjid Omar\, 1528 Pietro Ct.\, Harvey\, LA\, 70058\, United States
CATEGORIES:All Programs,Kid's Programs,Men's Programs,Seminars,Women Programs
END:VEVENT
BEGIN:VEVENT
DTSTART;TZID=America/Chicago:20290611T211500
DTEND;TZID=America/Chicago:20290611T212500
DTSTAMP:20260422T170052
CREATED:20250221T151318Z
LAST-MODIFIED:20250322T023040Z
UID:10005843-1875906900-1875907500@masjidomarharvey.org
SUMMARY:Lessons After Isha with the Sheikh
DESCRIPTION:Come learn various Islamic lessons every day of the week\, with the following topics for each day: \n\nMonday: Ruling lessons (Political)\nTuesday: Interpretation of the Quran\nWednesday: Creed through the Prophetic Biography\nFriday: Youth Circle\nSaturday: Jurisprudence\nSunday: Lessons for the Youth
URL:https://masjidomarharvey.org/event/lessons-after-isha-with-the-shiekh/2029-06-11/
LOCATION:Masjid Omar\, 1528 Pietro Ct.\, Harvey\, LA\, 70058\, United States
CATEGORIES:All Programs,Kid's Programs,Men's Programs,Seminars,Women Programs
END:VEVENT
BEGIN:VEVENT
DTSTART;TZID=America/Chicago:20290612T170000
DTEND;TZID=America/Chicago:20290612T190000
DTSTAMP:20260422T170052
CREATED:20250221T151720Z
LAST-MODIFIED:20250221T151720Z
UID:10004017-1875978000-1875985200@masjidomarharvey.org
SUMMARY:Jiu-Jitsu for Kids
DESCRIPTION:
URL:https://masjidomarharvey.org/event/jiu-jitsu-for-kids/2029-06-12/
LOCATION:Masjid Omar\, 1528 Pietro Ct.\, Harvey\, LA\, 70058\, United States
CATEGORIES:All Programs,Kid's Programs,Sports Events
END:VEVENT
BEGIN:VEVENT
DTSTART;TZID=America/Chicago:20290612T211500
DTEND;TZID=America/Chicago:20290612T212500
DTSTAMP:20260422T170052
CREATED:20250221T151318Z
LAST-MODIFIED:20250322T023040Z
UID:10005844-1875993300-1875993900@masjidomarharvey.org
SUMMARY:Lessons After Isha with the Sheikh
DESCRIPTION:Come learn various Islamic lessons every day of the week\, with the following topics for each day: \n\nMonday: Ruling lessons (Political)\nTuesday: Interpretation of the Quran\nWednesday: Creed through the Prophetic Biography\nFriday: Youth Circle\nSaturday: Jurisprudence\nSunday: Lessons for the Youth
URL:https://masjidomarharvey.org/event/lessons-after-isha-with-the-shiekh/2029-06-12/
LOCATION:Masjid Omar\, 1528 Pietro Ct.\, Harvey\, LA\, 70058\, United States
CATEGORIES:All Programs,Kid's Programs,Men's Programs,Seminars,Women Programs
END:VEVENT
BEGIN:VEVENT
DTSTART;TZID=America/Chicago:20290613T211500
DTEND;TZID=America/Chicago:20290613T212500
DTSTAMP:20260422T170052
CREATED:20250221T151318Z
LAST-MODIFIED:20250322T023040Z
UID:10005845-1876079700-1876080300@masjidomarharvey.org
SUMMARY:Lessons After Isha with the Sheikh
DESCRIPTION:Come learn various Islamic lessons every day of the week\, with the following topics for each day: \n\nMonday: Ruling lessons (Political)\nTuesday: Interpretation of the Quran\nWednesday: Creed through the Prophetic Biography\nFriday: Youth Circle\nSaturday: Jurisprudence\nSunday: Lessons for the Youth
URL:https://masjidomarharvey.org/event/lessons-after-isha-with-the-shiekh/2029-06-13/
LOCATION:Masjid Omar\, 1528 Pietro Ct.\, Harvey\, LA\, 70058\, United States
CATEGORIES:All Programs,Kid's Programs,Men's Programs,Seminars,Women Programs
END:VEVENT
BEGIN:VEVENT
DTSTART;TZID=America/Chicago:20290614T170000
DTEND;TZID=America/Chicago:20290614T190000
DTSTAMP:20260422T170052
CREATED:20250221T151720Z
LAST-MODIFIED:20250221T151720Z
UID:10004018-1876150800-1876158000@masjidomarharvey.org
SUMMARY:Jiu-Jitsu for Kids
DESCRIPTION:
URL:https://masjidomarharvey.org/event/jiu-jitsu-for-kids/2029-06-14/
LOCATION:Masjid Omar\, 1528 Pietro Ct.\, Harvey\, LA\, 70058\, United States
CATEGORIES:All Programs,Kid's Programs,Sports Events
END:VEVENT
BEGIN:VEVENT
DTSTART;TZID=America/Chicago:20290614T211500
DTEND;TZID=America/Chicago:20290614T213000
DTSTAMP:20260422T170052
CREATED:20250221T151604Z
LAST-MODIFIED:20250322T023114Z
UID:10006313-1876166100-1876167000@masjidomarharvey.org
SUMMARY:New Muslims Thursday
DESCRIPTION:Come learn about your Religion and get to know your fellow reverts! \nEvery Thursday after Isha Prayer
URL:https://masjidomarharvey.org/event/new-muslims-thursday/2029-06-14/
LOCATION:Masjid Omar\, 1528 Pietro Ct.\, Harvey\, LA\, 70058\, United States
CATEGORIES:All Programs,Men's Programs,Women Programs
END:VEVENT
BEGIN:VEVENT
DTSTART;TZID=America/Chicago:20290615T110000
DTEND;TZID=America/Chicago:20290615T120000
DTSTAMP:20260422T170052
CREATED:20250221T145820Z
LAST-MODIFIED:20250221T145820Z
UID:10001144-1876215600-1876219200@masjidomarharvey.org
SUMMARY:Sister Sarmini's Lessons for Unmarried Women
DESCRIPTION:
URL:https://masjidomarharvey.org/event/sister-sarminis-lessons-for-unmarried-women/2029-06-15/
LOCATION:Masjid Omar\, 1528 Pietro Ct.\, Harvey\, LA\, 70058\, United States
CATEGORIES:All Programs,Women Programs
END:VEVENT
BEGIN:VEVENT
DTSTART;TZID=America/Chicago:20290615T170000
DTEND;TZID=America/Chicago:20290615T190000
DTSTAMP:20260422T170052
CREATED:20250221T144745Z
LAST-MODIFIED:20250221T144745Z
UID:10000425-1876237200-1876244400@masjidomarharvey.org
SUMMARY:Islamic Ethics and More (For Females)
DESCRIPTION:Goes over the following: \n\nStories of the Prophets and Role Models\nAl-Tahawiyyah Creed\nIslamic Ethics\nTajweed
URL:https://masjidomarharvey.org/event/islamic-ethics-and-more-for-females/2029-06-15/
LOCATION:LA
CATEGORIES:All Programs,Kid's Programs,Women Programs
END:VEVENT
BEGIN:VEVENT
DTSTART;TZID=America/Chicago:20290615T211500
DTEND;TZID=America/Chicago:20290615T212500
DTSTAMP:20260422T170052
CREATED:20250221T151318Z
LAST-MODIFIED:20250322T023040Z
UID:10005846-1876252500-1876253100@masjidomarharvey.org
SUMMARY:Lessons After Isha with the Sheikh
DESCRIPTION:Come learn various Islamic lessons every day of the week\, with the following topics for each day: \n\nMonday: Ruling lessons (Political)\nTuesday: Interpretation of the Quran\nWednesday: Creed through the Prophetic Biography\nFriday: Youth Circle\nSaturday: Jurisprudence\nSunday: Lessons for the Youth
URL:https://masjidomarharvey.org/event/lessons-after-isha-with-the-shiekh/2029-06-15/
LOCATION:Masjid Omar\, 1528 Pietro Ct.\, Harvey\, LA\, 70058\, United States
CATEGORIES:All Programs,Kid's Programs,Men's Programs,Seminars,Women Programs
END:VEVENT
BEGIN:VEVENT
DTSTART;TZID=America/Chicago:20290616T091500
DTEND;TZID=America/Chicago:20290616T134500
DTSTAMP:20260422T170052
CREATED:20250221T145401Z
LAST-MODIFIED:20250221T145415Z
UID:10000833-1876295700-1876311900@masjidomarharvey.org
SUMMARY:Saturday School for Kids
DESCRIPTION:Come register to have your kids learn the religion of Islam\, Quran\, and the Arabic Language
URL:https://masjidomarharvey.org/event/saturday-school-for-kids/2029-06-16/
LOCATION:Masjid Omar\, 1528 Pietro Ct.\, Harvey\, LA\, 70058\, United States
CATEGORIES:All Programs,Kid's Programs,Seminars
END:VEVENT
BEGIN:VEVENT
DTSTART;TZID=America/Chicago:20290616T170000
DTEND;TZID=America/Chicago:20290616T190000
DTSTAMP:20260422T170052
CREATED:20250221T151720Z
LAST-MODIFIED:20250221T151720Z
UID:10004019-1876323600-1876330800@masjidomarharvey.org
SUMMARY:Jiu-Jitsu for Kids
DESCRIPTION:
URL:https://masjidomarharvey.org/event/jiu-jitsu-for-kids/2029-06-16/
LOCATION:Masjid Omar\, 1528 Pietro Ct.\, Harvey\, LA\, 70058\, United States
CATEGORIES:All Programs,Kid's Programs,Sports Events
END:VEVENT
BEGIN:VEVENT
DTSTART;TZID=America/Chicago:20290616T211500
DTEND;TZID=America/Chicago:20290616T212500
DTSTAMP:20260422T170052
CREATED:20250221T151318Z
LAST-MODIFIED:20250322T023040Z
UID:10005847-1876338900-1876339500@masjidomarharvey.org
SUMMARY:Lessons After Isha with the Sheikh
DESCRIPTION:Come learn various Islamic lessons every day of the week\, with the following topics for each day: \n\nMonday: Ruling lessons (Political)\nTuesday: Interpretation of the Quran\nWednesday: Creed through the Prophetic Biography\nFriday: Youth Circle\nSaturday: Jurisprudence\nSunday: Lessons for the Youth
URL:https://masjidomarharvey.org/event/lessons-after-isha-with-the-shiekh/2029-06-16/
LOCATION:Masjid Omar\, 1528 Pietro Ct.\, Harvey\, LA\, 70058\, United States
CATEGORIES:All Programs,Kid's Programs,Men's Programs,Seminars,Women Programs
END:VEVENT
BEGIN:VEVENT
DTSTART;TZID=America/Chicago:20290617T060000
DTEND;TZID=America/Chicago:20290617T070000
DTSTAMP:20260422T170052
CREATED:20250221T151420Z
LAST-MODIFIED:20250227T010220Z
UID:10003039-1876370400-1876374000@masjidomarharvey.org
SUMMARY:Quran Reading Circle with the Sheikh
DESCRIPTION:
URL:https://masjidomarharvey.org/event/quran-reading-circle-with-the-shiekh/2029-06-17/
LOCATION:Masjid Omar\, 1528 Pietro Ct.\, Harvey\, LA\, 70058\, United States
CATEGORIES:All Programs,Men's Programs
END:VEVENT
BEGIN:VEVENT
DTSTART;TZID=America/Chicago:20290617T211500
DTEND;TZID=America/Chicago:20290617T212500
DTSTAMP:20260422T170052
CREATED:20250221T151318Z
LAST-MODIFIED:20250322T023040Z
UID:10005848-1876425300-1876425900@masjidomarharvey.org
SUMMARY:Lessons After Isha with the Sheikh
DESCRIPTION:Come learn various Islamic lessons every day of the week\, with the following topics for each day: \n\nMonday: Ruling lessons (Political)\nTuesday: Interpretation of the Quran\nWednesday: Creed through the Prophetic Biography\nFriday: Youth Circle\nSaturday: Jurisprudence\nSunday: Lessons for the Youth
URL:https://masjidomarharvey.org/event/lessons-after-isha-with-the-shiekh/2029-06-17/
LOCATION:Masjid Omar\, 1528 Pietro Ct.\, Harvey\, LA\, 70058\, United States
CATEGORIES:All Programs,Kid's Programs,Men's Programs,Seminars,Women Programs
END:VEVENT
BEGIN:VEVENT
DTSTART;TZID=America/Chicago:20290618T211500
DTEND;TZID=America/Chicago:20290618T212500
DTSTAMP:20260422T170052
CREATED:20250221T151318Z
LAST-MODIFIED:20250322T023040Z
UID:10005849-1876511700-1876512300@masjidomarharvey.org
SUMMARY:Lessons After Isha with the Sheikh
DESCRIPTION:Come learn various Islamic lessons every day of the week\, with the following topics for each day: \n\nMonday: Ruling lessons (Political)\nTuesday: Interpretation of the Quran\nWednesday: Creed through the Prophetic Biography\nFriday: Youth Circle\nSaturday: Jurisprudence\nSunday: Lessons for the Youth
URL:https://masjidomarharvey.org/event/lessons-after-isha-with-the-shiekh/2029-06-18/
LOCATION:Masjid Omar\, 1528 Pietro Ct.\, Harvey\, LA\, 70058\, United States
CATEGORIES:All Programs,Kid's Programs,Men's Programs,Seminars,Women Programs
END:VEVENT
BEGIN:VEVENT
DTSTART;TZID=America/Chicago:20290619T170000
DTEND;TZID=America/Chicago:20290619T190000
DTSTAMP:20260422T170052
CREATED:20250221T151720Z
LAST-MODIFIED:20250221T151720Z
UID:10004020-1876582800-1876590000@masjidomarharvey.org
SUMMARY:Jiu-Jitsu for Kids
DESCRIPTION:
URL:https://masjidomarharvey.org/event/jiu-jitsu-for-kids/2029-06-19/
LOCATION:Masjid Omar\, 1528 Pietro Ct.\, Harvey\, LA\, 70058\, United States
CATEGORIES:All Programs,Kid's Programs,Sports Events
END:VEVENT
BEGIN:VEVENT
DTSTART;TZID=America/Chicago:20290619T211500
DTEND;TZID=America/Chicago:20290619T212500
DTSTAMP:20260422T170052
CREATED:20250221T151318Z
LAST-MODIFIED:20250322T023040Z
UID:10005850-1876598100-1876598700@masjidomarharvey.org
SUMMARY:Lessons After Isha with the Sheikh
DESCRIPTION:Come learn various Islamic lessons every day of the week\, with the following topics for each day: \n\nMonday: Ruling lessons (Political)\nTuesday: Interpretation of the Quran\nWednesday: Creed through the Prophetic Biography\nFriday: Youth Circle\nSaturday: Jurisprudence\nSunday: Lessons for the Youth
URL:https://masjidomarharvey.org/event/lessons-after-isha-with-the-shiekh/2029-06-19/
LOCATION:Masjid Omar\, 1528 Pietro Ct.\, Harvey\, LA\, 70058\, United States
CATEGORIES:All Programs,Kid's Programs,Men's Programs,Seminars,Women Programs
END:VEVENT
BEGIN:VEVENT
DTSTART;TZID=America/Chicago:20290620T211500
DTEND;TZID=America/Chicago:20290620T212500
DTSTAMP:20260422T170052
CREATED:20250221T151318Z
LAST-MODIFIED:20250322T023040Z
UID:10005851-1876684500-1876685100@masjidomarharvey.org
SUMMARY:Lessons After Isha with the Sheikh
DESCRIPTION:Come learn various Islamic lessons every day of the week\, with the following topics for each day: \n\nMonday: Ruling lessons (Political)\nTuesday: Interpretation of the Quran\nWednesday: Creed through the Prophetic Biography\nFriday: Youth Circle\nSaturday: Jurisprudence\nSunday: Lessons for the Youth
URL:https://masjidomarharvey.org/event/lessons-after-isha-with-the-shiekh/2029-06-20/
LOCATION:Masjid Omar\, 1528 Pietro Ct.\, Harvey\, LA\, 70058\, United States
CATEGORIES:All Programs,Kid's Programs,Men's Programs,Seminars,Women Programs
END:VEVENT
BEGIN:VEVENT
DTSTART;TZID=America/Chicago:20290621T170000
DTEND;TZID=America/Chicago:20290621T190000
DTSTAMP:20260422T170052
CREATED:20250221T151720Z
LAST-MODIFIED:20250221T151720Z
UID:10004021-1876755600-1876762800@masjidomarharvey.org
SUMMARY:Jiu-Jitsu for Kids
DESCRIPTION:
URL:https://masjidomarharvey.org/event/jiu-jitsu-for-kids/2029-06-21/
LOCATION:Masjid Omar\, 1528 Pietro Ct.\, Harvey\, LA\, 70058\, United States
CATEGORIES:All Programs,Kid's Programs,Sports Events
END:VEVENT
BEGIN:VEVENT
DTSTART;TZID=America/Chicago:20290621T211500
DTEND;TZID=America/Chicago:20290621T213000
DTSTAMP:20260422T170052
CREATED:20250221T151604Z
LAST-MODIFIED:20250322T023114Z
UID:10006314-1876770900-1876771800@masjidomarharvey.org
SUMMARY:New Muslims Thursday
DESCRIPTION:Come learn about your Religion and get to know your fellow reverts! \nEvery Thursday after Isha Prayer
URL:https://masjidomarharvey.org/event/new-muslims-thursday/2029-06-21/
LOCATION:Masjid Omar\, 1528 Pietro Ct.\, Harvey\, LA\, 70058\, United States
CATEGORIES:All Programs,Men's Programs,Women Programs
END:VEVENT
END:VCALENDAR