BEGIN:VCALENDAR
VERSION:2.0
PRODID:-//Masjid Omar - ECPv6.9.0//NONSGML v1.0//EN
CALSCALE:GREGORIAN
METHOD:PUBLISH
X-ORIGINAL-URL:https://masjidomarharvey.org
X-WR-CALDESC:Events for Masjid Omar
REFRESH-INTERVAL;VALUE=DURATION:PT1H
X-Robots-Tag:noindex
X-PUBLISHED-TTL:PT1H
BEGIN:VTIMEZONE
TZID:America/Chicago
BEGIN:DAYLIGHT
TZOFFSETFROM:-0600
TZOFFSETTO:-0500
TZNAME:CDT
DTSTART:20290311T080000
END:DAYLIGHT
BEGIN:STANDARD
TZOFFSETFROM:-0500
TZOFFSETTO:-0600
TZNAME:CST
DTSTART:20291104T070000
END:STANDARD
END:VTIMEZONE
BEGIN:VEVENT
DTSTART;TZID=America/Chicago:20290524T170000
DTEND;TZID=America/Chicago:20290524T190000
DTSTAMP:20260423T035809
CREATED:20250221T151720Z
LAST-MODIFIED:20250221T151720Z
UID:10004009-1874336400-1874343600@masjidomarharvey.org
SUMMARY:Jiu-Jitsu for Kids
DESCRIPTION:
URL:https://masjidomarharvey.org/event/jiu-jitsu-for-kids/2029-05-24/
LOCATION:Masjid Omar\, 1528 Pietro Ct.\, Harvey\, LA\, 70058\, United States
CATEGORIES:All Programs,Kid's Programs,Sports Events
END:VEVENT
BEGIN:VEVENT
DTSTART;TZID=America/Chicago:20290524T211500
DTEND;TZID=America/Chicago:20290524T213000
DTSTAMP:20260423T035809
CREATED:20250221T151604Z
LAST-MODIFIED:20250322T023114Z
UID:10006310-1874351700-1874352600@masjidomarharvey.org
SUMMARY:New Muslims Thursday
DESCRIPTION:Come learn about your Religion and get to know your fellow reverts! \nEvery Thursday after Isha Prayer
URL:https://masjidomarharvey.org/event/new-muslims-thursday/2029-05-24/
LOCATION:Masjid Omar\, 1528 Pietro Ct.\, Harvey\, LA\, 70058\, United States
CATEGORIES:All Programs,Men's Programs,Women Programs
END:VEVENT
BEGIN:VEVENT
DTSTART;TZID=America/Chicago:20290525T110000
DTEND;TZID=America/Chicago:20290525T120000
DTSTAMP:20260423T035809
CREATED:20250221T145820Z
LAST-MODIFIED:20250221T145820Z
UID:10001141-1874401200-1874404800@masjidomarharvey.org
SUMMARY:Sister Sarmini's Lessons for Unmarried Women
DESCRIPTION:
URL:https://masjidomarharvey.org/event/sister-sarminis-lessons-for-unmarried-women/2029-05-25/
LOCATION:Masjid Omar\, 1528 Pietro Ct.\, Harvey\, LA\, 70058\, United States
CATEGORIES:All Programs,Women Programs
END:VEVENT
BEGIN:VEVENT
DTSTART;TZID=America/Chicago:20290525T170000
DTEND;TZID=America/Chicago:20290525T190000
DTSTAMP:20260423T035809
CREATED:20250221T144745Z
LAST-MODIFIED:20250221T144745Z
UID:10000422-1874422800-1874430000@masjidomarharvey.org
SUMMARY:Islamic Ethics and More (For Females)
DESCRIPTION:Goes over the following: \n\nStories of the Prophets and Role Models\nAl-Tahawiyyah Creed\nIslamic Ethics\nTajweed
URL:https://masjidomarharvey.org/event/islamic-ethics-and-more-for-females/2029-05-25/
LOCATION:LA
CATEGORIES:All Programs,Kid's Programs,Women Programs
END:VEVENT
BEGIN:VEVENT
DTSTART;TZID=America/Chicago:20290525T211500
DTEND;TZID=America/Chicago:20290525T212500
DTSTAMP:20260423T035809
CREATED:20250221T151318Z
LAST-MODIFIED:20250322T023040Z
UID:10005828-1874438100-1874438700@masjidomarharvey.org
SUMMARY:Lessons After Isha with the Sheikh
DESCRIPTION:Come learn various Islamic lessons every day of the week\, with the following topics for each day: \n\nMonday: Ruling lessons (Political)\nTuesday: Interpretation of the Quran\nWednesday: Creed through the Prophetic Biography\nFriday: Youth Circle\nSaturday: Jurisprudence\nSunday: Lessons for the Youth
URL:https://masjidomarharvey.org/event/lessons-after-isha-with-the-shiekh/2029-05-25/
LOCATION:Masjid Omar\, 1528 Pietro Ct.\, Harvey\, LA\, 70058\, United States
CATEGORIES:All Programs,Kid's Programs,Men's Programs,Seminars,Women Programs
END:VEVENT
BEGIN:VEVENT
DTSTART;TZID=America/Chicago:20290526T091500
DTEND;TZID=America/Chicago:20290526T134500
DTSTAMP:20260423T035809
CREATED:20250221T145401Z
LAST-MODIFIED:20250221T145415Z
UID:10000830-1874481300-1874497500@masjidomarharvey.org
SUMMARY:Saturday School for Kids
DESCRIPTION:Come register to have your kids learn the religion of Islam\, Quran\, and the Arabic Language
URL:https://masjidomarharvey.org/event/saturday-school-for-kids/2029-05-26/
LOCATION:Masjid Omar\, 1528 Pietro Ct.\, Harvey\, LA\, 70058\, United States
CATEGORIES:All Programs,Kid's Programs,Seminars
END:VEVENT
BEGIN:VEVENT
DTSTART;TZID=America/Chicago:20290526T170000
DTEND;TZID=America/Chicago:20290526T190000
DTSTAMP:20260423T035809
CREATED:20250221T151720Z
LAST-MODIFIED:20250221T151720Z
UID:10004010-1874509200-1874516400@masjidomarharvey.org
SUMMARY:Jiu-Jitsu for Kids
DESCRIPTION:
URL:https://masjidomarharvey.org/event/jiu-jitsu-for-kids/2029-05-26/
LOCATION:Masjid Omar\, 1528 Pietro Ct.\, Harvey\, LA\, 70058\, United States
CATEGORIES:All Programs,Kid's Programs,Sports Events
END:VEVENT
BEGIN:VEVENT
DTSTART;TZID=America/Chicago:20290526T211500
DTEND;TZID=America/Chicago:20290526T212500
DTSTAMP:20260423T035809
CREATED:20250221T151318Z
LAST-MODIFIED:20250322T023040Z
UID:10005829-1874524500-1874525100@masjidomarharvey.org
SUMMARY:Lessons After Isha with the Sheikh
DESCRIPTION:Come learn various Islamic lessons every day of the week\, with the following topics for each day: \n\nMonday: Ruling lessons (Political)\nTuesday: Interpretation of the Quran\nWednesday: Creed through the Prophetic Biography\nFriday: Youth Circle\nSaturday: Jurisprudence\nSunday: Lessons for the Youth
URL:https://masjidomarharvey.org/event/lessons-after-isha-with-the-shiekh/2029-05-26/
LOCATION:Masjid Omar\, 1528 Pietro Ct.\, Harvey\, LA\, 70058\, United States
CATEGORIES:All Programs,Kid's Programs,Men's Programs,Seminars,Women Programs
END:VEVENT
BEGIN:VEVENT
DTSTART;TZID=America/Chicago:20290527T060000
DTEND;TZID=America/Chicago:20290527T070000
DTSTAMP:20260423T035809
CREATED:20250221T151420Z
LAST-MODIFIED:20250227T010220Z
UID:10003036-1874556000-1874559600@masjidomarharvey.org
SUMMARY:Quran Reading Circle with the Sheikh
DESCRIPTION:
URL:https://masjidomarharvey.org/event/quran-reading-circle-with-the-shiekh/2029-05-27/
LOCATION:Masjid Omar\, 1528 Pietro Ct.\, Harvey\, LA\, 70058\, United States
CATEGORIES:All Programs,Men's Programs
END:VEVENT
BEGIN:VEVENT
DTSTART;TZID=America/Chicago:20290527T211500
DTEND;TZID=America/Chicago:20290527T212500
DTSTAMP:20260423T035809
CREATED:20250221T151318Z
LAST-MODIFIED:20250322T023040Z
UID:10005830-1874610900-1874611500@masjidomarharvey.org
SUMMARY:Lessons After Isha with the Sheikh
DESCRIPTION:Come learn various Islamic lessons every day of the week\, with the following topics for each day: \n\nMonday: Ruling lessons (Political)\nTuesday: Interpretation of the Quran\nWednesday: Creed through the Prophetic Biography\nFriday: Youth Circle\nSaturday: Jurisprudence\nSunday: Lessons for the Youth
URL:https://masjidomarharvey.org/event/lessons-after-isha-with-the-shiekh/2029-05-27/
LOCATION:Masjid Omar\, 1528 Pietro Ct.\, Harvey\, LA\, 70058\, United States
CATEGORIES:All Programs,Kid's Programs,Men's Programs,Seminars,Women Programs
END:VEVENT
BEGIN:VEVENT
DTSTART;TZID=America/Chicago:20290528T211500
DTEND;TZID=America/Chicago:20290528T212500
DTSTAMP:20260423T035809
CREATED:20250221T151318Z
LAST-MODIFIED:20250322T023040Z
UID:10005831-1874697300-1874697900@masjidomarharvey.org
SUMMARY:Lessons After Isha with the Sheikh
DESCRIPTION:Come learn various Islamic lessons every day of the week\, with the following topics for each day: \n\nMonday: Ruling lessons (Political)\nTuesday: Interpretation of the Quran\nWednesday: Creed through the Prophetic Biography\nFriday: Youth Circle\nSaturday: Jurisprudence\nSunday: Lessons for the Youth
URL:https://masjidomarharvey.org/event/lessons-after-isha-with-the-shiekh/2029-05-28/
LOCATION:Masjid Omar\, 1528 Pietro Ct.\, Harvey\, LA\, 70058\, United States
CATEGORIES:All Programs,Kid's Programs,Men's Programs,Seminars,Women Programs
END:VEVENT
BEGIN:VEVENT
DTSTART;TZID=America/Chicago:20290529T170000
DTEND;TZID=America/Chicago:20290529T190000
DTSTAMP:20260423T035809
CREATED:20250221T151720Z
LAST-MODIFIED:20250221T151720Z
UID:10004011-1874768400-1874775600@masjidomarharvey.org
SUMMARY:Jiu-Jitsu for Kids
DESCRIPTION:
URL:https://masjidomarharvey.org/event/jiu-jitsu-for-kids/2029-05-29/
LOCATION:Masjid Omar\, 1528 Pietro Ct.\, Harvey\, LA\, 70058\, United States
CATEGORIES:All Programs,Kid's Programs,Sports Events
END:VEVENT
BEGIN:VEVENT
DTSTART;TZID=America/Chicago:20290529T211500
DTEND;TZID=America/Chicago:20290529T212500
DTSTAMP:20260423T035809
CREATED:20250221T151318Z
LAST-MODIFIED:20250322T023040Z
UID:10005832-1874783700-1874784300@masjidomarharvey.org
SUMMARY:Lessons After Isha with the Sheikh
DESCRIPTION:Come learn various Islamic lessons every day of the week\, with the following topics for each day: \n\nMonday: Ruling lessons (Political)\nTuesday: Interpretation of the Quran\nWednesday: Creed through the Prophetic Biography\nFriday: Youth Circle\nSaturday: Jurisprudence\nSunday: Lessons for the Youth
URL:https://masjidomarharvey.org/event/lessons-after-isha-with-the-shiekh/2029-05-29/
LOCATION:Masjid Omar\, 1528 Pietro Ct.\, Harvey\, LA\, 70058\, United States
CATEGORIES:All Programs,Kid's Programs,Men's Programs,Seminars,Women Programs
END:VEVENT
BEGIN:VEVENT
DTSTART;TZID=America/Chicago:20290530T211500
DTEND;TZID=America/Chicago:20290530T212500
DTSTAMP:20260423T035809
CREATED:20250221T151318Z
LAST-MODIFIED:20250322T023040Z
UID:10005833-1874870100-1874870700@masjidomarharvey.org
SUMMARY:Lessons After Isha with the Sheikh
DESCRIPTION:Come learn various Islamic lessons every day of the week\, with the following topics for each day: \n\nMonday: Ruling lessons (Political)\nTuesday: Interpretation of the Quran\nWednesday: Creed through the Prophetic Biography\nFriday: Youth Circle\nSaturday: Jurisprudence\nSunday: Lessons for the Youth
URL:https://masjidomarharvey.org/event/lessons-after-isha-with-the-shiekh/2029-05-30/
LOCATION:Masjid Omar\, 1528 Pietro Ct.\, Harvey\, LA\, 70058\, United States
CATEGORIES:All Programs,Kid's Programs,Men's Programs,Seminars,Women Programs
END:VEVENT
BEGIN:VEVENT
DTSTART;TZID=America/Chicago:20290531T170000
DTEND;TZID=America/Chicago:20290531T190000
DTSTAMP:20260423T035809
CREATED:20250221T151720Z
LAST-MODIFIED:20250221T151720Z
UID:10004012-1874941200-1874948400@masjidomarharvey.org
SUMMARY:Jiu-Jitsu for Kids
DESCRIPTION:
URL:https://masjidomarharvey.org/event/jiu-jitsu-for-kids/2029-05-31/
LOCATION:Masjid Omar\, 1528 Pietro Ct.\, Harvey\, LA\, 70058\, United States
CATEGORIES:All Programs,Kid's Programs,Sports Events
END:VEVENT
BEGIN:VEVENT
DTSTART;TZID=America/Chicago:20290531T211500
DTEND;TZID=America/Chicago:20290531T213000
DTSTAMP:20260423T035809
CREATED:20250221T151604Z
LAST-MODIFIED:20250322T023114Z
UID:10006311-1874956500-1874957400@masjidomarharvey.org
SUMMARY:New Muslims Thursday
DESCRIPTION:Come learn about your Religion and get to know your fellow reverts! \nEvery Thursday after Isha Prayer
URL:https://masjidomarharvey.org/event/new-muslims-thursday/2029-05-31/
LOCATION:Masjid Omar\, 1528 Pietro Ct.\, Harvey\, LA\, 70058\, United States
CATEGORIES:All Programs,Men's Programs,Women Programs
END:VEVENT
BEGIN:VEVENT
DTSTART;TZID=America/Chicago:20290601T110000
DTEND;TZID=America/Chicago:20290601T120000
DTSTAMP:20260423T035809
CREATED:20250221T145820Z
LAST-MODIFIED:20250221T145820Z
UID:10001142-1875006000-1875009600@masjidomarharvey.org
SUMMARY:Sister Sarmini's Lessons for Unmarried Women
DESCRIPTION:
URL:https://masjidomarharvey.org/event/sister-sarminis-lessons-for-unmarried-women/2029-06-01/
LOCATION:Masjid Omar\, 1528 Pietro Ct.\, Harvey\, LA\, 70058\, United States
CATEGORIES:All Programs,Women Programs
END:VEVENT
BEGIN:VEVENT
DTSTART;TZID=America/Chicago:20290601T170000
DTEND;TZID=America/Chicago:20290601T190000
DTSTAMP:20260423T035809
CREATED:20250221T144745Z
LAST-MODIFIED:20250221T144745Z
UID:10000423-1875027600-1875034800@masjidomarharvey.org
SUMMARY:Islamic Ethics and More (For Females)
DESCRIPTION:Goes over the following: \n\nStories of the Prophets and Role Models\nAl-Tahawiyyah Creed\nIslamic Ethics\nTajweed
URL:https://masjidomarharvey.org/event/islamic-ethics-and-more-for-females/2029-06-01/
LOCATION:LA
CATEGORIES:All Programs,Kid's Programs,Women Programs
END:VEVENT
BEGIN:VEVENT
DTSTART;TZID=America/Chicago:20290601T211500
DTEND;TZID=America/Chicago:20290601T212500
DTSTAMP:20260423T035809
CREATED:20250221T151318Z
LAST-MODIFIED:20250322T023040Z
UID:10005834-1875042900-1875043500@masjidomarharvey.org
SUMMARY:Lessons After Isha with the Sheikh
DESCRIPTION:Come learn various Islamic lessons every day of the week\, with the following topics for each day: \n\nMonday: Ruling lessons (Political)\nTuesday: Interpretation of the Quran\nWednesday: Creed through the Prophetic Biography\nFriday: Youth Circle\nSaturday: Jurisprudence\nSunday: Lessons for the Youth
URL:https://masjidomarharvey.org/event/lessons-after-isha-with-the-shiekh/2029-06-01/
LOCATION:Masjid Omar\, 1528 Pietro Ct.\, Harvey\, LA\, 70058\, United States
CATEGORIES:All Programs,Kid's Programs,Men's Programs,Seminars,Women Programs
END:VEVENT
BEGIN:VEVENT
DTSTART;TZID=America/Chicago:20290602T091500
DTEND;TZID=America/Chicago:20290602T134500
DTSTAMP:20260423T035809
CREATED:20250221T145401Z
LAST-MODIFIED:20250221T145415Z
UID:10000831-1875086100-1875102300@masjidomarharvey.org
SUMMARY:Saturday School for Kids
DESCRIPTION:Come register to have your kids learn the religion of Islam\, Quran\, and the Arabic Language
URL:https://masjidomarharvey.org/event/saturday-school-for-kids/2029-06-02/
LOCATION:Masjid Omar\, 1528 Pietro Ct.\, Harvey\, LA\, 70058\, United States
CATEGORIES:All Programs,Kid's Programs,Seminars
END:VEVENT
BEGIN:VEVENT
DTSTART;TZID=America/Chicago:20290602T170000
DTEND;TZID=America/Chicago:20290602T190000
DTSTAMP:20260423T035809
CREATED:20250221T151720Z
LAST-MODIFIED:20250221T151720Z
UID:10004013-1875114000-1875121200@masjidomarharvey.org
SUMMARY:Jiu-Jitsu for Kids
DESCRIPTION:
URL:https://masjidomarharvey.org/event/jiu-jitsu-for-kids/2029-06-02/
LOCATION:Masjid Omar\, 1528 Pietro Ct.\, Harvey\, LA\, 70058\, United States
CATEGORIES:All Programs,Kid's Programs,Sports Events
END:VEVENT
BEGIN:VEVENT
DTSTART;TZID=America/Chicago:20290602T211500
DTEND;TZID=America/Chicago:20290602T212500
DTSTAMP:20260423T035809
CREATED:20250221T151318Z
LAST-MODIFIED:20250322T023040Z
UID:10005835-1875129300-1875129900@masjidomarharvey.org
SUMMARY:Lessons After Isha with the Sheikh
DESCRIPTION:Come learn various Islamic lessons every day of the week\, with the following topics for each day: \n\nMonday: Ruling lessons (Political)\nTuesday: Interpretation of the Quran\nWednesday: Creed through the Prophetic Biography\nFriday: Youth Circle\nSaturday: Jurisprudence\nSunday: Lessons for the Youth
URL:https://masjidomarharvey.org/event/lessons-after-isha-with-the-shiekh/2029-06-02/
LOCATION:Masjid Omar\, 1528 Pietro Ct.\, Harvey\, LA\, 70058\, United States
CATEGORIES:All Programs,Kid's Programs,Men's Programs,Seminars,Women Programs
END:VEVENT
BEGIN:VEVENT
DTSTART;TZID=America/Chicago:20290603T060000
DTEND;TZID=America/Chicago:20290603T070000
DTSTAMP:20260423T035809
CREATED:20250221T151420Z
LAST-MODIFIED:20250227T010220Z
UID:10003037-1875160800-1875164400@masjidomarharvey.org
SUMMARY:Quran Reading Circle with the Sheikh
DESCRIPTION:
URL:https://masjidomarharvey.org/event/quran-reading-circle-with-the-shiekh/2029-06-03/
LOCATION:Masjid Omar\, 1528 Pietro Ct.\, Harvey\, LA\, 70058\, United States
CATEGORIES:All Programs,Men's Programs
END:VEVENT
BEGIN:VEVENT
DTSTART;TZID=America/Chicago:20290603T211500
DTEND;TZID=America/Chicago:20290603T212500
DTSTAMP:20260423T035809
CREATED:20250221T151318Z
LAST-MODIFIED:20250322T023040Z
UID:10005836-1875215700-1875216300@masjidomarharvey.org
SUMMARY:Lessons After Isha with the Sheikh
DESCRIPTION:Come learn various Islamic lessons every day of the week\, with the following topics for each day: \n\nMonday: Ruling lessons (Political)\nTuesday: Interpretation of the Quran\nWednesday: Creed through the Prophetic Biography\nFriday: Youth Circle\nSaturday: Jurisprudence\nSunday: Lessons for the Youth
URL:https://masjidomarharvey.org/event/lessons-after-isha-with-the-shiekh/2029-06-03/
LOCATION:Masjid Omar\, 1528 Pietro Ct.\, Harvey\, LA\, 70058\, United States
CATEGORIES:All Programs,Kid's Programs,Men's Programs,Seminars,Women Programs
END:VEVENT
BEGIN:VEVENT
DTSTART;TZID=America/Chicago:20290604T211500
DTEND;TZID=America/Chicago:20290604T212500
DTSTAMP:20260423T035809
CREATED:20250221T151318Z
LAST-MODIFIED:20250322T023040Z
UID:10005837-1875302100-1875302700@masjidomarharvey.org
SUMMARY:Lessons After Isha with the Sheikh
DESCRIPTION:Come learn various Islamic lessons every day of the week\, with the following topics for each day: \n\nMonday: Ruling lessons (Political)\nTuesday: Interpretation of the Quran\nWednesday: Creed through the Prophetic Biography\nFriday: Youth Circle\nSaturday: Jurisprudence\nSunday: Lessons for the Youth
URL:https://masjidomarharvey.org/event/lessons-after-isha-with-the-shiekh/2029-06-04/
LOCATION:Masjid Omar\, 1528 Pietro Ct.\, Harvey\, LA\, 70058\, United States
CATEGORIES:All Programs,Kid's Programs,Men's Programs,Seminars,Women Programs
END:VEVENT
BEGIN:VEVENT
DTSTART;TZID=America/Chicago:20290605T170000
DTEND;TZID=America/Chicago:20290605T190000
DTSTAMP:20260423T035809
CREATED:20250221T151720Z
LAST-MODIFIED:20250221T151720Z
UID:10004014-1875373200-1875380400@masjidomarharvey.org
SUMMARY:Jiu-Jitsu for Kids
DESCRIPTION:
URL:https://masjidomarharvey.org/event/jiu-jitsu-for-kids/2029-06-05/
LOCATION:Masjid Omar\, 1528 Pietro Ct.\, Harvey\, LA\, 70058\, United States
CATEGORIES:All Programs,Kid's Programs,Sports Events
END:VEVENT
BEGIN:VEVENT
DTSTART;TZID=America/Chicago:20290605T211500
DTEND;TZID=America/Chicago:20290605T212500
DTSTAMP:20260423T035809
CREATED:20250221T151318Z
LAST-MODIFIED:20250322T023040Z
UID:10005838-1875388500-1875389100@masjidomarharvey.org
SUMMARY:Lessons After Isha with the Sheikh
DESCRIPTION:Come learn various Islamic lessons every day of the week\, with the following topics for each day: \n\nMonday: Ruling lessons (Political)\nTuesday: Interpretation of the Quran\nWednesday: Creed through the Prophetic Biography\nFriday: Youth Circle\nSaturday: Jurisprudence\nSunday: Lessons for the Youth
URL:https://masjidomarharvey.org/event/lessons-after-isha-with-the-shiekh/2029-06-05/
LOCATION:Masjid Omar\, 1528 Pietro Ct.\, Harvey\, LA\, 70058\, United States
CATEGORIES:All Programs,Kid's Programs,Men's Programs,Seminars,Women Programs
END:VEVENT
BEGIN:VEVENT
DTSTART;TZID=America/Chicago:20290606T211500
DTEND;TZID=America/Chicago:20290606T212500
DTSTAMP:20260423T035809
CREATED:20250221T151318Z
LAST-MODIFIED:20250322T023040Z
UID:10005839-1875474900-1875475500@masjidomarharvey.org
SUMMARY:Lessons After Isha with the Sheikh
DESCRIPTION:Come learn various Islamic lessons every day of the week\, with the following topics for each day: \n\nMonday: Ruling lessons (Political)\nTuesday: Interpretation of the Quran\nWednesday: Creed through the Prophetic Biography\nFriday: Youth Circle\nSaturday: Jurisprudence\nSunday: Lessons for the Youth
URL:https://masjidomarharvey.org/event/lessons-after-isha-with-the-shiekh/2029-06-06/
LOCATION:Masjid Omar\, 1528 Pietro Ct.\, Harvey\, LA\, 70058\, United States
CATEGORIES:All Programs,Kid's Programs,Men's Programs,Seminars,Women Programs
END:VEVENT
BEGIN:VEVENT
DTSTART;TZID=America/Chicago:20290607T170000
DTEND;TZID=America/Chicago:20290607T190000
DTSTAMP:20260423T035809
CREATED:20250221T151720Z
LAST-MODIFIED:20250221T151720Z
UID:10004015-1875546000-1875553200@masjidomarharvey.org
SUMMARY:Jiu-Jitsu for Kids
DESCRIPTION:
URL:https://masjidomarharvey.org/event/jiu-jitsu-for-kids/2029-06-07/
LOCATION:Masjid Omar\, 1528 Pietro Ct.\, Harvey\, LA\, 70058\, United States
CATEGORIES:All Programs,Kid's Programs,Sports Events
END:VEVENT
BEGIN:VEVENT
DTSTART;TZID=America/Chicago:20290607T211500
DTEND;TZID=America/Chicago:20290607T213000
DTSTAMP:20260423T035809
CREATED:20250221T151604Z
LAST-MODIFIED:20250322T023114Z
UID:10006312-1875561300-1875562200@masjidomarharvey.org
SUMMARY:New Muslims Thursday
DESCRIPTION:Come learn about your Religion and get to know your fellow reverts! \nEvery Thursday after Isha Prayer
URL:https://masjidomarharvey.org/event/new-muslims-thursday/2029-06-07/
LOCATION:Masjid Omar\, 1528 Pietro Ct.\, Harvey\, LA\, 70058\, United States
CATEGORIES:All Programs,Men's Programs,Women Programs
END:VEVENT
END:VCALENDAR