BEGIN:VCALENDAR
VERSION:2.0
PRODID:-//Masjid Omar - ECPv6.9.0//NONSGML v1.0//EN
CALSCALE:GREGORIAN
METHOD:PUBLISH
X-WR-CALNAME:Masjid Omar
X-ORIGINAL-URL:https://masjidomarharvey.org
X-WR-CALDESC:Events for Masjid Omar
REFRESH-INTERVAL;VALUE=DURATION:PT1H
X-Robots-Tag:noindex
X-PUBLISHED-TTL:PT1H
BEGIN:VTIMEZONE
TZID:America/Chicago
BEGIN:DAYLIGHT
TZOFFSETFROM:-0600
TZOFFSETTO:-0500
TZNAME:CDT
DTSTART:20290311T080000
END:DAYLIGHT
BEGIN:STANDARD
TZOFFSETFROM:-0500
TZOFFSETTO:-0600
TZNAME:CST
DTSTART:20291104T070000
END:STANDARD
END:VTIMEZONE
BEGIN:VEVENT
DTSTART;TZID=America/Chicago:20291107T211500
DTEND;TZID=America/Chicago:20291107T212500
DTSTAMP:20260425T085157
CREATED:20250221T151318Z
LAST-MODIFIED:20250322T023040Z
UID:10005971-1888780500-1888781100@masjidomarharvey.org
SUMMARY:Lessons After Isha with the Sheikh
DESCRIPTION:Come learn various Islamic lessons every day of the week\, with the following topics for each day: \n\nMonday: Ruling lessons (Political)\nTuesday: Interpretation of the Quran\nWednesday: Creed through the Prophetic Biography\nFriday: Youth Circle\nSaturday: Jurisprudence\nSunday: Lessons for the Youth
URL:https://masjidomarharvey.org/event/lessons-after-isha-with-the-shiekh/2029-11-07/
LOCATION:Masjid Omar\, 1528 Pietro Ct.\, Harvey\, LA\, 70058\, United States
CATEGORIES:All Programs,Kid's Programs,Men's Programs,Seminars,Women Programs
END:VEVENT
BEGIN:VEVENT
DTSTART;TZID=America/Chicago:20291108T170000
DTEND;TZID=America/Chicago:20291108T190000
DTSTAMP:20260425T085157
CREATED:20250221T151720Z
LAST-MODIFIED:20250221T151720Z
UID:10004081-1888851600-1888858800@masjidomarharvey.org
SUMMARY:Jiu-Jitsu for Kids
DESCRIPTION:
URL:https://masjidomarharvey.org/event/jiu-jitsu-for-kids/2029-11-08/
LOCATION:Masjid Omar\, 1528 Pietro Ct.\, Harvey\, LA\, 70058\, United States
CATEGORIES:All Programs,Kid's Programs,Sports Events
END:VEVENT
BEGIN:VEVENT
DTSTART;TZID=America/Chicago:20291108T211500
DTEND;TZID=America/Chicago:20291108T213000
DTSTAMP:20260425T085157
CREATED:20250221T151604Z
LAST-MODIFIED:20250322T023114Z
UID:10006334-1888866900-1888867800@masjidomarharvey.org
SUMMARY:New Muslims Thursday
DESCRIPTION:Come learn about your Religion and get to know your fellow reverts! \nEvery Thursday after Isha Prayer
URL:https://masjidomarharvey.org/event/new-muslims-thursday/2029-11-08/
LOCATION:Masjid Omar\, 1528 Pietro Ct.\, Harvey\, LA\, 70058\, United States
CATEGORIES:All Programs,Men's Programs,Women Programs
END:VEVENT
BEGIN:VEVENT
DTSTART;TZID=America/Chicago:20291109T110000
DTEND;TZID=America/Chicago:20291109T120000
DTSTAMP:20260425T085157
CREATED:20250221T145820Z
LAST-MODIFIED:20250221T145820Z
UID:10001165-1888916400-1888920000@masjidomarharvey.org
SUMMARY:Sister Sarmini's Lessons for Unmarried Women
DESCRIPTION:
URL:https://masjidomarharvey.org/event/sister-sarminis-lessons-for-unmarried-women/2029-11-09/
LOCATION:Masjid Omar\, 1528 Pietro Ct.\, Harvey\, LA\, 70058\, United States
CATEGORIES:All Programs,Women Programs
END:VEVENT
BEGIN:VEVENT
DTSTART;TZID=America/Chicago:20291109T170000
DTEND;TZID=America/Chicago:20291109T190000
DTSTAMP:20260425T085157
CREATED:20250221T144745Z
LAST-MODIFIED:20250221T144745Z
UID:10000446-1888938000-1888945200@masjidomarharvey.org
SUMMARY:Islamic Ethics and More (For Females)
DESCRIPTION:Goes over the following: \n\nStories of the Prophets and Role Models\nAl-Tahawiyyah Creed\nIslamic Ethics\nTajweed
URL:https://masjidomarharvey.org/event/islamic-ethics-and-more-for-females/2029-11-09/
LOCATION:LA
CATEGORIES:All Programs,Kid's Programs,Women Programs
END:VEVENT
BEGIN:VEVENT
DTSTART;TZID=America/Chicago:20291109T211500
DTEND;TZID=America/Chicago:20291109T212500
DTSTAMP:20260425T085157
CREATED:20250221T151318Z
LAST-MODIFIED:20250322T023040Z
UID:10005972-1888953300-1888953900@masjidomarharvey.org
SUMMARY:Lessons After Isha with the Sheikh
DESCRIPTION:Come learn various Islamic lessons every day of the week\, with the following topics for each day: \n\nMonday: Ruling lessons (Political)\nTuesday: Interpretation of the Quran\nWednesday: Creed through the Prophetic Biography\nFriday: Youth Circle\nSaturday: Jurisprudence\nSunday: Lessons for the Youth
URL:https://masjidomarharvey.org/event/lessons-after-isha-with-the-shiekh/2029-11-09/
LOCATION:Masjid Omar\, 1528 Pietro Ct.\, Harvey\, LA\, 70058\, United States
CATEGORIES:All Programs,Kid's Programs,Men's Programs,Seminars,Women Programs
END:VEVENT
BEGIN:VEVENT
DTSTART;TZID=America/Chicago:20291110T091500
DTEND;TZID=America/Chicago:20291110T134500
DTSTAMP:20260425T085157
CREATED:20250221T145401Z
LAST-MODIFIED:20250221T145415Z
UID:10000854-1888996500-1889012700@masjidomarharvey.org
SUMMARY:Saturday School for Kids
DESCRIPTION:Come register to have your kids learn the religion of Islam\, Quran\, and the Arabic Language
URL:https://masjidomarharvey.org/event/saturday-school-for-kids/2029-11-10/
LOCATION:Masjid Omar\, 1528 Pietro Ct.\, Harvey\, LA\, 70058\, United States
CATEGORIES:All Programs,Kid's Programs,Seminars
END:VEVENT
BEGIN:VEVENT
DTSTART;TZID=America/Chicago:20291110T170000
DTEND;TZID=America/Chicago:20291110T190000
DTSTAMP:20260425T085157
CREATED:20250221T151720Z
LAST-MODIFIED:20250221T151720Z
UID:10004082-1889024400-1889031600@masjidomarharvey.org
SUMMARY:Jiu-Jitsu for Kids
DESCRIPTION:
URL:https://masjidomarharvey.org/event/jiu-jitsu-for-kids/2029-11-10/
LOCATION:Masjid Omar\, 1528 Pietro Ct.\, Harvey\, LA\, 70058\, United States
CATEGORIES:All Programs,Kid's Programs,Sports Events
END:VEVENT
BEGIN:VEVENT
DTSTART;TZID=America/Chicago:20291110T211500
DTEND;TZID=America/Chicago:20291110T212500
DTSTAMP:20260425T085157
CREATED:20250221T151318Z
LAST-MODIFIED:20250322T023040Z
UID:10005973-1889039700-1889040300@masjidomarharvey.org
SUMMARY:Lessons After Isha with the Sheikh
DESCRIPTION:Come learn various Islamic lessons every day of the week\, with the following topics for each day: \n\nMonday: Ruling lessons (Political)\nTuesday: Interpretation of the Quran\nWednesday: Creed through the Prophetic Biography\nFriday: Youth Circle\nSaturday: Jurisprudence\nSunday: Lessons for the Youth
URL:https://masjidomarharvey.org/event/lessons-after-isha-with-the-shiekh/2029-11-10/
LOCATION:Masjid Omar\, 1528 Pietro Ct.\, Harvey\, LA\, 70058\, United States
CATEGORIES:All Programs,Kid's Programs,Men's Programs,Seminars,Women Programs
END:VEVENT
BEGIN:VEVENT
DTSTART;TZID=America/Chicago:20291111T060000
DTEND;TZID=America/Chicago:20291111T070000
DTSTAMP:20260425T085157
CREATED:20250221T151420Z
LAST-MODIFIED:20250227T010220Z
UID:10003060-1889071200-1889074800@masjidomarharvey.org
SUMMARY:Quran Reading Circle with the Sheikh
DESCRIPTION:
URL:https://masjidomarharvey.org/event/quran-reading-circle-with-the-shiekh/2029-11-11/
LOCATION:Masjid Omar\, 1528 Pietro Ct.\, Harvey\, LA\, 70058\, United States
CATEGORIES:All Programs,Men's Programs
END:VEVENT
BEGIN:VEVENT
DTSTART;TZID=America/Chicago:20291111T211500
DTEND;TZID=America/Chicago:20291111T212500
DTSTAMP:20260425T085157
CREATED:20250221T151318Z
LAST-MODIFIED:20250322T023040Z
UID:10005974-1889126100-1889126700@masjidomarharvey.org
SUMMARY:Lessons After Isha with the Sheikh
DESCRIPTION:Come learn various Islamic lessons every day of the week\, with the following topics for each day: \n\nMonday: Ruling lessons (Political)\nTuesday: Interpretation of the Quran\nWednesday: Creed through the Prophetic Biography\nFriday: Youth Circle\nSaturday: Jurisprudence\nSunday: Lessons for the Youth
URL:https://masjidomarharvey.org/event/lessons-after-isha-with-the-shiekh/2029-11-11/
LOCATION:Masjid Omar\, 1528 Pietro Ct.\, Harvey\, LA\, 70058\, United States
CATEGORIES:All Programs,Kid's Programs,Men's Programs,Seminars,Women Programs
END:VEVENT
BEGIN:VEVENT
DTSTART;TZID=America/Chicago:20291112T211500
DTEND;TZID=America/Chicago:20291112T212500
DTSTAMP:20260425T085157
CREATED:20250221T151318Z
LAST-MODIFIED:20250322T023040Z
UID:10005975-1889212500-1889213100@masjidomarharvey.org
SUMMARY:Lessons After Isha with the Sheikh
DESCRIPTION:Come learn various Islamic lessons every day of the week\, with the following topics for each day: \n\nMonday: Ruling lessons (Political)\nTuesday: Interpretation of the Quran\nWednesday: Creed through the Prophetic Biography\nFriday: Youth Circle\nSaturday: Jurisprudence\nSunday: Lessons for the Youth
URL:https://masjidomarharvey.org/event/lessons-after-isha-with-the-shiekh/2029-11-12/
LOCATION:Masjid Omar\, 1528 Pietro Ct.\, Harvey\, LA\, 70058\, United States
CATEGORIES:All Programs,Kid's Programs,Men's Programs,Seminars,Women Programs
END:VEVENT
BEGIN:VEVENT
DTSTART;TZID=America/Chicago:20291113T170000
DTEND;TZID=America/Chicago:20291113T190000
DTSTAMP:20260425T085157
CREATED:20250221T151720Z
LAST-MODIFIED:20250221T151720Z
UID:10004083-1889283600-1889290800@masjidomarharvey.org
SUMMARY:Jiu-Jitsu for Kids
DESCRIPTION:
URL:https://masjidomarharvey.org/event/jiu-jitsu-for-kids/2029-11-13/
LOCATION:Masjid Omar\, 1528 Pietro Ct.\, Harvey\, LA\, 70058\, United States
CATEGORIES:All Programs,Kid's Programs,Sports Events
END:VEVENT
BEGIN:VEVENT
DTSTART;TZID=America/Chicago:20291113T211500
DTEND;TZID=America/Chicago:20291113T212500
DTSTAMP:20260425T085157
CREATED:20250221T151318Z
LAST-MODIFIED:20250322T023040Z
UID:10005976-1889298900-1889299500@masjidomarharvey.org
SUMMARY:Lessons After Isha with the Sheikh
DESCRIPTION:Come learn various Islamic lessons every day of the week\, with the following topics for each day: \n\nMonday: Ruling lessons (Political)\nTuesday: Interpretation of the Quran\nWednesday: Creed through the Prophetic Biography\nFriday: Youth Circle\nSaturday: Jurisprudence\nSunday: Lessons for the Youth
URL:https://masjidomarharvey.org/event/lessons-after-isha-with-the-shiekh/2029-11-13/
LOCATION:Masjid Omar\, 1528 Pietro Ct.\, Harvey\, LA\, 70058\, United States
CATEGORIES:All Programs,Kid's Programs,Men's Programs,Seminars,Women Programs
END:VEVENT
BEGIN:VEVENT
DTSTART;TZID=America/Chicago:20291114T211500
DTEND;TZID=America/Chicago:20291114T212500
DTSTAMP:20260425T085157
CREATED:20250221T151318Z
LAST-MODIFIED:20250322T023040Z
UID:10005977-1889385300-1889385900@masjidomarharvey.org
SUMMARY:Lessons After Isha with the Sheikh
DESCRIPTION:Come learn various Islamic lessons every day of the week\, with the following topics for each day: \n\nMonday: Ruling lessons (Political)\nTuesday: Interpretation of the Quran\nWednesday: Creed through the Prophetic Biography\nFriday: Youth Circle\nSaturday: Jurisprudence\nSunday: Lessons for the Youth
URL:https://masjidomarharvey.org/event/lessons-after-isha-with-the-shiekh/2029-11-14/
LOCATION:Masjid Omar\, 1528 Pietro Ct.\, Harvey\, LA\, 70058\, United States
CATEGORIES:All Programs,Kid's Programs,Men's Programs,Seminars,Women Programs
END:VEVENT
BEGIN:VEVENT
DTSTART;TZID=America/Chicago:20291115T170000
DTEND;TZID=America/Chicago:20291115T190000
DTSTAMP:20260425T085157
CREATED:20250221T151720Z
LAST-MODIFIED:20250221T151720Z
UID:10004084-1889456400-1889463600@masjidomarharvey.org
SUMMARY:Jiu-Jitsu for Kids
DESCRIPTION:
URL:https://masjidomarharvey.org/event/jiu-jitsu-for-kids/2029-11-15/
LOCATION:Masjid Omar\, 1528 Pietro Ct.\, Harvey\, LA\, 70058\, United States
CATEGORIES:All Programs,Kid's Programs,Sports Events
END:VEVENT
BEGIN:VEVENT
DTSTART;TZID=America/Chicago:20291115T211500
DTEND;TZID=America/Chicago:20291115T213000
DTSTAMP:20260425T085157
CREATED:20250221T151604Z
LAST-MODIFIED:20250322T023114Z
UID:10006335-1889471700-1889472600@masjidomarharvey.org
SUMMARY:New Muslims Thursday
DESCRIPTION:Come learn about your Religion and get to know your fellow reverts! \nEvery Thursday after Isha Prayer
URL:https://masjidomarharvey.org/event/new-muslims-thursday/2029-11-15/
LOCATION:Masjid Omar\, 1528 Pietro Ct.\, Harvey\, LA\, 70058\, United States
CATEGORIES:All Programs,Men's Programs,Women Programs
END:VEVENT
BEGIN:VEVENT
DTSTART;TZID=America/Chicago:20291116T110000
DTEND;TZID=America/Chicago:20291116T120000
DTSTAMP:20260425T085157
CREATED:20250221T145820Z
LAST-MODIFIED:20250221T145820Z
UID:10001166-1889521200-1889524800@masjidomarharvey.org
SUMMARY:Sister Sarmini's Lessons for Unmarried Women
DESCRIPTION:
URL:https://masjidomarharvey.org/event/sister-sarminis-lessons-for-unmarried-women/2029-11-16/
LOCATION:Masjid Omar\, 1528 Pietro Ct.\, Harvey\, LA\, 70058\, United States
CATEGORIES:All Programs,Women Programs
END:VEVENT
BEGIN:VEVENT
DTSTART;TZID=America/Chicago:20291116T170000
DTEND;TZID=America/Chicago:20291116T190000
DTSTAMP:20260425T085157
CREATED:20250221T144745Z
LAST-MODIFIED:20250221T144745Z
UID:10000447-1889542800-1889550000@masjidomarharvey.org
SUMMARY:Islamic Ethics and More (For Females)
DESCRIPTION:Goes over the following: \n\nStories of the Prophets and Role Models\nAl-Tahawiyyah Creed\nIslamic Ethics\nTajweed
URL:https://masjidomarharvey.org/event/islamic-ethics-and-more-for-females/2029-11-16/
LOCATION:LA
CATEGORIES:All Programs,Kid's Programs,Women Programs
END:VEVENT
BEGIN:VEVENT
DTSTART;TZID=America/Chicago:20291116T211500
DTEND;TZID=America/Chicago:20291116T212500
DTSTAMP:20260425T085157
CREATED:20250221T151318Z
LAST-MODIFIED:20250322T023040Z
UID:10005978-1889558100-1889558700@masjidomarharvey.org
SUMMARY:Lessons After Isha with the Sheikh
DESCRIPTION:Come learn various Islamic lessons every day of the week\, with the following topics for each day: \n\nMonday: Ruling lessons (Political)\nTuesday: Interpretation of the Quran\nWednesday: Creed through the Prophetic Biography\nFriday: Youth Circle\nSaturday: Jurisprudence\nSunday: Lessons for the Youth
URL:https://masjidomarharvey.org/event/lessons-after-isha-with-the-shiekh/2029-11-16/
LOCATION:Masjid Omar\, 1528 Pietro Ct.\, Harvey\, LA\, 70058\, United States
CATEGORIES:All Programs,Kid's Programs,Men's Programs,Seminars,Women Programs
END:VEVENT
BEGIN:VEVENT
DTSTART;TZID=America/Chicago:20291117T091500
DTEND;TZID=America/Chicago:20291117T134500
DTSTAMP:20260425T085157
CREATED:20250221T145401Z
LAST-MODIFIED:20250221T145415Z
UID:10000855-1889601300-1889617500@masjidomarharvey.org
SUMMARY:Saturday School for Kids
DESCRIPTION:Come register to have your kids learn the religion of Islam\, Quran\, and the Arabic Language
URL:https://masjidomarharvey.org/event/saturday-school-for-kids/2029-11-17/
LOCATION:Masjid Omar\, 1528 Pietro Ct.\, Harvey\, LA\, 70058\, United States
CATEGORIES:All Programs,Kid's Programs,Seminars
END:VEVENT
BEGIN:VEVENT
DTSTART;TZID=America/Chicago:20291117T170000
DTEND;TZID=America/Chicago:20291117T190000
DTSTAMP:20260425T085157
CREATED:20250221T151720Z
LAST-MODIFIED:20250221T151720Z
UID:10004085-1889629200-1889636400@masjidomarharvey.org
SUMMARY:Jiu-Jitsu for Kids
DESCRIPTION:
URL:https://masjidomarharvey.org/event/jiu-jitsu-for-kids/2029-11-17/
LOCATION:Masjid Omar\, 1528 Pietro Ct.\, Harvey\, LA\, 70058\, United States
CATEGORIES:All Programs,Kid's Programs,Sports Events
END:VEVENT
BEGIN:VEVENT
DTSTART;TZID=America/Chicago:20291117T211500
DTEND;TZID=America/Chicago:20291117T212500
DTSTAMP:20260425T085157
CREATED:20250221T151318Z
LAST-MODIFIED:20250322T023040Z
UID:10005979-1889644500-1889645100@masjidomarharvey.org
SUMMARY:Lessons After Isha with the Sheikh
DESCRIPTION:Come learn various Islamic lessons every day of the week\, with the following topics for each day: \n\nMonday: Ruling lessons (Political)\nTuesday: Interpretation of the Quran\nWednesday: Creed through the Prophetic Biography\nFriday: Youth Circle\nSaturday: Jurisprudence\nSunday: Lessons for the Youth
URL:https://masjidomarharvey.org/event/lessons-after-isha-with-the-shiekh/2029-11-17/
LOCATION:Masjid Omar\, 1528 Pietro Ct.\, Harvey\, LA\, 70058\, United States
CATEGORIES:All Programs,Kid's Programs,Men's Programs,Seminars,Women Programs
END:VEVENT
BEGIN:VEVENT
DTSTART;TZID=America/Chicago:20291118T060000
DTEND;TZID=America/Chicago:20291118T070000
DTSTAMP:20260425T085157
CREATED:20250221T151420Z
LAST-MODIFIED:20250227T010220Z
UID:10003061-1889676000-1889679600@masjidomarharvey.org
SUMMARY:Quran Reading Circle with the Sheikh
DESCRIPTION:
URL:https://masjidomarharvey.org/event/quran-reading-circle-with-the-shiekh/2029-11-18/
LOCATION:Masjid Omar\, 1528 Pietro Ct.\, Harvey\, LA\, 70058\, United States
CATEGORIES:All Programs,Men's Programs
END:VEVENT
BEGIN:VEVENT
DTSTART;TZID=America/Chicago:20291118T211500
DTEND;TZID=America/Chicago:20291118T212500
DTSTAMP:20260425T085157
CREATED:20250221T151318Z
LAST-MODIFIED:20250322T023040Z
UID:10005980-1889730900-1889731500@masjidomarharvey.org
SUMMARY:Lessons After Isha with the Sheikh
DESCRIPTION:Come learn various Islamic lessons every day of the week\, with the following topics for each day: \n\nMonday: Ruling lessons (Political)\nTuesday: Interpretation of the Quran\nWednesday: Creed through the Prophetic Biography\nFriday: Youth Circle\nSaturday: Jurisprudence\nSunday: Lessons for the Youth
URL:https://masjidomarharvey.org/event/lessons-after-isha-with-the-shiekh/2029-11-18/
LOCATION:Masjid Omar\, 1528 Pietro Ct.\, Harvey\, LA\, 70058\, United States
CATEGORIES:All Programs,Kid's Programs,Men's Programs,Seminars,Women Programs
END:VEVENT
BEGIN:VEVENT
DTSTART;TZID=America/Chicago:20291119T211500
DTEND;TZID=America/Chicago:20291119T212500
DTSTAMP:20260425T085157
CREATED:20250221T151318Z
LAST-MODIFIED:20250322T023040Z
UID:10005981-1889817300-1889817900@masjidomarharvey.org
SUMMARY:Lessons After Isha with the Sheikh
DESCRIPTION:Come learn various Islamic lessons every day of the week\, with the following topics for each day: \n\nMonday: Ruling lessons (Political)\nTuesday: Interpretation of the Quran\nWednesday: Creed through the Prophetic Biography\nFriday: Youth Circle\nSaturday: Jurisprudence\nSunday: Lessons for the Youth
URL:https://masjidomarharvey.org/event/lessons-after-isha-with-the-shiekh/2029-11-19/
LOCATION:Masjid Omar\, 1528 Pietro Ct.\, Harvey\, LA\, 70058\, United States
CATEGORIES:All Programs,Kid's Programs,Men's Programs,Seminars,Women Programs
END:VEVENT
BEGIN:VEVENT
DTSTART;TZID=America/Chicago:20291120T170000
DTEND;TZID=America/Chicago:20291120T190000
DTSTAMP:20260425T085157
CREATED:20250221T151720Z
LAST-MODIFIED:20250221T151720Z
UID:10004086-1889888400-1889895600@masjidomarharvey.org
SUMMARY:Jiu-Jitsu for Kids
DESCRIPTION:
URL:https://masjidomarharvey.org/event/jiu-jitsu-for-kids/2029-11-20/
LOCATION:Masjid Omar\, 1528 Pietro Ct.\, Harvey\, LA\, 70058\, United States
CATEGORIES:All Programs,Kid's Programs,Sports Events
END:VEVENT
BEGIN:VEVENT
DTSTART;TZID=America/Chicago:20291120T211500
DTEND;TZID=America/Chicago:20291120T212500
DTSTAMP:20260425T085157
CREATED:20250221T151318Z
LAST-MODIFIED:20250322T023040Z
UID:10005982-1889903700-1889904300@masjidomarharvey.org
SUMMARY:Lessons After Isha with the Sheikh
DESCRIPTION:Come learn various Islamic lessons every day of the week\, with the following topics for each day: \n\nMonday: Ruling lessons (Political)\nTuesday: Interpretation of the Quran\nWednesday: Creed through the Prophetic Biography\nFriday: Youth Circle\nSaturday: Jurisprudence\nSunday: Lessons for the Youth
URL:https://masjidomarharvey.org/event/lessons-after-isha-with-the-shiekh/2029-11-20/
LOCATION:Masjid Omar\, 1528 Pietro Ct.\, Harvey\, LA\, 70058\, United States
CATEGORIES:All Programs,Kid's Programs,Men's Programs,Seminars,Women Programs
END:VEVENT
BEGIN:VEVENT
DTSTART;TZID=America/Chicago:20291121T211500
DTEND;TZID=America/Chicago:20291121T212500
DTSTAMP:20260425T085157
CREATED:20250221T151318Z
LAST-MODIFIED:20250322T023040Z
UID:10005983-1889990100-1889990700@masjidomarharvey.org
SUMMARY:Lessons After Isha with the Sheikh
DESCRIPTION:Come learn various Islamic lessons every day of the week\, with the following topics for each day: \n\nMonday: Ruling lessons (Political)\nTuesday: Interpretation of the Quran\nWednesday: Creed through the Prophetic Biography\nFriday: Youth Circle\nSaturday: Jurisprudence\nSunday: Lessons for the Youth
URL:https://masjidomarharvey.org/event/lessons-after-isha-with-the-shiekh/2029-11-21/
LOCATION:Masjid Omar\, 1528 Pietro Ct.\, Harvey\, LA\, 70058\, United States
CATEGORIES:All Programs,Kid's Programs,Men's Programs,Seminars,Women Programs
END:VEVENT
BEGIN:VEVENT
DTSTART;TZID=America/Chicago:20291122T170000
DTEND;TZID=America/Chicago:20291122T190000
DTSTAMP:20260425T085157
CREATED:20250221T151720Z
LAST-MODIFIED:20250221T151720Z
UID:10004087-1890061200-1890068400@masjidomarharvey.org
SUMMARY:Jiu-Jitsu for Kids
DESCRIPTION:
URL:https://masjidomarharvey.org/event/jiu-jitsu-for-kids/2029-11-22/
LOCATION:Masjid Omar\, 1528 Pietro Ct.\, Harvey\, LA\, 70058\, United States
CATEGORIES:All Programs,Kid's Programs,Sports Events
END:VEVENT
END:VCALENDAR