BEGIN:VCALENDAR
VERSION:2.0
PRODID:-//Masjid Omar - ECPv6.9.0//NONSGML v1.0//EN
CALSCALE:GREGORIAN
METHOD:PUBLISH
X-ORIGINAL-URL:https://masjidomarharvey.org
X-WR-CALDESC:Events for Masjid Omar
REFRESH-INTERVAL;VALUE=DURATION:PT1H
X-Robots-Tag:noindex
X-PUBLISHED-TTL:PT1H
BEGIN:VTIMEZONE
TZID:America/Chicago
BEGIN:DAYLIGHT
TZOFFSETFROM:-0600
TZOFFSETTO:-0500
TZNAME:CDT
DTSTART:20290311T080000
END:DAYLIGHT
BEGIN:STANDARD
TZOFFSETFROM:-0500
TZOFFSETTO:-0600
TZNAME:CST
DTSTART:20291104T070000
END:STANDARD
END:VTIMEZONE
BEGIN:VEVENT
DTSTART;TZID=America/Chicago:20291023T170000
DTEND;TZID=America/Chicago:20291023T190000
DTSTAMP:20260425T055104
CREATED:20250221T151720Z
LAST-MODIFIED:20250221T151720Z
UID:10004074-1887469200-1887476400@masjidomarharvey.org
SUMMARY:Jiu-Jitsu for Kids
DESCRIPTION:
URL:https://masjidomarharvey.org/event/jiu-jitsu-for-kids/2029-10-23/
LOCATION:Masjid Omar\, 1528 Pietro Ct.\, Harvey\, LA\, 70058\, United States
CATEGORIES:All Programs,Kid's Programs,Sports Events
END:VEVENT
BEGIN:VEVENT
DTSTART;TZID=America/Chicago:20291023T211500
DTEND;TZID=America/Chicago:20291023T212500
DTSTAMP:20260425T055104
CREATED:20250221T151318Z
LAST-MODIFIED:20250322T023040Z
UID:10005958-1887484500-1887485100@masjidomarharvey.org
SUMMARY:Lessons After Isha with the Sheikh
DESCRIPTION:Come learn various Islamic lessons every day of the week\, with the following topics for each day: \n\nMonday: Ruling lessons (Political)\nTuesday: Interpretation of the Quran\nWednesday: Creed through the Prophetic Biography\nFriday: Youth Circle\nSaturday: Jurisprudence\nSunday: Lessons for the Youth
URL:https://masjidomarharvey.org/event/lessons-after-isha-with-the-shiekh/2029-10-23/
LOCATION:Masjid Omar\, 1528 Pietro Ct.\, Harvey\, LA\, 70058\, United States
CATEGORIES:All Programs,Kid's Programs,Men's Programs,Seminars,Women Programs
END:VEVENT
BEGIN:VEVENT
DTSTART;TZID=America/Chicago:20291024T211500
DTEND;TZID=America/Chicago:20291024T212500
DTSTAMP:20260425T055105
CREATED:20250221T151318Z
LAST-MODIFIED:20250322T023040Z
UID:10005959-1887570900-1887571500@masjidomarharvey.org
SUMMARY:Lessons After Isha with the Sheikh
DESCRIPTION:Come learn various Islamic lessons every day of the week\, with the following topics for each day: \n\nMonday: Ruling lessons (Political)\nTuesday: Interpretation of the Quran\nWednesday: Creed through the Prophetic Biography\nFriday: Youth Circle\nSaturday: Jurisprudence\nSunday: Lessons for the Youth
URL:https://masjidomarharvey.org/event/lessons-after-isha-with-the-shiekh/2029-10-24/
LOCATION:Masjid Omar\, 1528 Pietro Ct.\, Harvey\, LA\, 70058\, United States
CATEGORIES:All Programs,Kid's Programs,Men's Programs,Seminars,Women Programs
END:VEVENT
BEGIN:VEVENT
DTSTART;TZID=America/Chicago:20291025T170000
DTEND;TZID=America/Chicago:20291025T190000
DTSTAMP:20260425T055105
CREATED:20250221T151720Z
LAST-MODIFIED:20250221T151720Z
UID:10004075-1887642000-1887649200@masjidomarharvey.org
SUMMARY:Jiu-Jitsu for Kids
DESCRIPTION:
URL:https://masjidomarharvey.org/event/jiu-jitsu-for-kids/2029-10-25/
LOCATION:Masjid Omar\, 1528 Pietro Ct.\, Harvey\, LA\, 70058\, United States
CATEGORIES:All Programs,Kid's Programs,Sports Events
END:VEVENT
BEGIN:VEVENT
DTSTART;TZID=America/Chicago:20291025T211500
DTEND;TZID=America/Chicago:20291025T213000
DTSTAMP:20260425T055105
CREATED:20250221T151604Z
LAST-MODIFIED:20250322T023114Z
UID:10006332-1887657300-1887658200@masjidomarharvey.org
SUMMARY:New Muslims Thursday
DESCRIPTION:Come learn about your Religion and get to know your fellow reverts! \nEvery Thursday after Isha Prayer
URL:https://masjidomarharvey.org/event/new-muslims-thursday/2029-10-25/
LOCATION:Masjid Omar\, 1528 Pietro Ct.\, Harvey\, LA\, 70058\, United States
CATEGORIES:All Programs,Men's Programs,Women Programs
END:VEVENT
BEGIN:VEVENT
DTSTART;TZID=America/Chicago:20291026T110000
DTEND;TZID=America/Chicago:20291026T120000
DTSTAMP:20260425T055105
CREATED:20250221T145820Z
LAST-MODIFIED:20250221T145820Z
UID:10001163-1887706800-1887710400@masjidomarharvey.org
SUMMARY:Sister Sarmini's Lessons for Unmarried Women
DESCRIPTION:
URL:https://masjidomarharvey.org/event/sister-sarminis-lessons-for-unmarried-women/2029-10-26/
LOCATION:Masjid Omar\, 1528 Pietro Ct.\, Harvey\, LA\, 70058\, United States
CATEGORIES:All Programs,Women Programs
END:VEVENT
BEGIN:VEVENT
DTSTART;TZID=America/Chicago:20291026T170000
DTEND;TZID=America/Chicago:20291026T190000
DTSTAMP:20260425T055105
CREATED:20250221T144745Z
LAST-MODIFIED:20250221T144745Z
UID:10000444-1887728400-1887735600@masjidomarharvey.org
SUMMARY:Islamic Ethics and More (For Females)
DESCRIPTION:Goes over the following: \n\nStories of the Prophets and Role Models\nAl-Tahawiyyah Creed\nIslamic Ethics\nTajweed
URL:https://masjidomarharvey.org/event/islamic-ethics-and-more-for-females/2029-10-26/
LOCATION:LA
CATEGORIES:All Programs,Kid's Programs,Women Programs
END:VEVENT
BEGIN:VEVENT
DTSTART;TZID=America/Chicago:20291026T211500
DTEND;TZID=America/Chicago:20291026T212500
DTSTAMP:20260425T055105
CREATED:20250221T151318Z
LAST-MODIFIED:20250322T023040Z
UID:10005960-1887743700-1887744300@masjidomarharvey.org
SUMMARY:Lessons After Isha with the Sheikh
DESCRIPTION:Come learn various Islamic lessons every day of the week\, with the following topics for each day: \n\nMonday: Ruling lessons (Political)\nTuesday: Interpretation of the Quran\nWednesday: Creed through the Prophetic Biography\nFriday: Youth Circle\nSaturday: Jurisprudence\nSunday: Lessons for the Youth
URL:https://masjidomarharvey.org/event/lessons-after-isha-with-the-shiekh/2029-10-26/
LOCATION:Masjid Omar\, 1528 Pietro Ct.\, Harvey\, LA\, 70058\, United States
CATEGORIES:All Programs,Kid's Programs,Men's Programs,Seminars,Women Programs
END:VEVENT
BEGIN:VEVENT
DTSTART;TZID=America/Chicago:20291027T091500
DTEND;TZID=America/Chicago:20291027T134500
DTSTAMP:20260425T055105
CREATED:20250221T145401Z
LAST-MODIFIED:20250221T145415Z
UID:10000852-1887786900-1887803100@masjidomarharvey.org
SUMMARY:Saturday School for Kids
DESCRIPTION:Come register to have your kids learn the religion of Islam\, Quran\, and the Arabic Language
URL:https://masjidomarharvey.org/event/saturday-school-for-kids/2029-10-27/
LOCATION:Masjid Omar\, 1528 Pietro Ct.\, Harvey\, LA\, 70058\, United States
CATEGORIES:All Programs,Kid's Programs,Seminars
END:VEVENT
BEGIN:VEVENT
DTSTART;TZID=America/Chicago:20291027T170000
DTEND;TZID=America/Chicago:20291027T190000
DTSTAMP:20260425T055105
CREATED:20250221T151720Z
LAST-MODIFIED:20250221T151720Z
UID:10004076-1887814800-1887822000@masjidomarharvey.org
SUMMARY:Jiu-Jitsu for Kids
DESCRIPTION:
URL:https://masjidomarharvey.org/event/jiu-jitsu-for-kids/2029-10-27/
LOCATION:Masjid Omar\, 1528 Pietro Ct.\, Harvey\, LA\, 70058\, United States
CATEGORIES:All Programs,Kid's Programs,Sports Events
END:VEVENT
BEGIN:VEVENT
DTSTART;TZID=America/Chicago:20291027T211500
DTEND;TZID=America/Chicago:20291027T212500
DTSTAMP:20260425T055105
CREATED:20250221T151318Z
LAST-MODIFIED:20250322T023040Z
UID:10005961-1887830100-1887830700@masjidomarharvey.org
SUMMARY:Lessons After Isha with the Sheikh
DESCRIPTION:Come learn various Islamic lessons every day of the week\, with the following topics for each day: \n\nMonday: Ruling lessons (Political)\nTuesday: Interpretation of the Quran\nWednesday: Creed through the Prophetic Biography\nFriday: Youth Circle\nSaturday: Jurisprudence\nSunday: Lessons for the Youth
URL:https://masjidomarharvey.org/event/lessons-after-isha-with-the-shiekh/2029-10-27/
LOCATION:Masjid Omar\, 1528 Pietro Ct.\, Harvey\, LA\, 70058\, United States
CATEGORIES:All Programs,Kid's Programs,Men's Programs,Seminars,Women Programs
END:VEVENT
BEGIN:VEVENT
DTSTART;TZID=America/Chicago:20291028T060000
DTEND;TZID=America/Chicago:20291028T070000
DTSTAMP:20260425T055105
CREATED:20250221T151420Z
LAST-MODIFIED:20250227T010220Z
UID:10003058-1887861600-1887865200@masjidomarharvey.org
SUMMARY:Quran Reading Circle with the Sheikh
DESCRIPTION:
URL:https://masjidomarharvey.org/event/quran-reading-circle-with-the-shiekh/2029-10-28/
LOCATION:Masjid Omar\, 1528 Pietro Ct.\, Harvey\, LA\, 70058\, United States
CATEGORIES:All Programs,Men's Programs
END:VEVENT
BEGIN:VEVENT
DTSTART;TZID=America/Chicago:20291028T211500
DTEND;TZID=America/Chicago:20291028T212500
DTSTAMP:20260425T055105
CREATED:20250221T151318Z
LAST-MODIFIED:20250322T023040Z
UID:10005962-1887916500-1887917100@masjidomarharvey.org
SUMMARY:Lessons After Isha with the Sheikh
DESCRIPTION:Come learn various Islamic lessons every day of the week\, with the following topics for each day: \n\nMonday: Ruling lessons (Political)\nTuesday: Interpretation of the Quran\nWednesday: Creed through the Prophetic Biography\nFriday: Youth Circle\nSaturday: Jurisprudence\nSunday: Lessons for the Youth
URL:https://masjidomarharvey.org/event/lessons-after-isha-with-the-shiekh/2029-10-28/
LOCATION:Masjid Omar\, 1528 Pietro Ct.\, Harvey\, LA\, 70058\, United States
CATEGORIES:All Programs,Kid's Programs,Men's Programs,Seminars,Women Programs
END:VEVENT
BEGIN:VEVENT
DTSTART;TZID=America/Chicago:20291029T211500
DTEND;TZID=America/Chicago:20291029T212500
DTSTAMP:20260425T055105
CREATED:20250221T151318Z
LAST-MODIFIED:20250322T023040Z
UID:10005963-1888002900-1888003500@masjidomarharvey.org
SUMMARY:Lessons After Isha with the Sheikh
DESCRIPTION:Come learn various Islamic lessons every day of the week\, with the following topics for each day: \n\nMonday: Ruling lessons (Political)\nTuesday: Interpretation of the Quran\nWednesday: Creed through the Prophetic Biography\nFriday: Youth Circle\nSaturday: Jurisprudence\nSunday: Lessons for the Youth
URL:https://masjidomarharvey.org/event/lessons-after-isha-with-the-shiekh/2029-10-29/
LOCATION:Masjid Omar\, 1528 Pietro Ct.\, Harvey\, LA\, 70058\, United States
CATEGORIES:All Programs,Kid's Programs,Men's Programs,Seminars,Women Programs
END:VEVENT
BEGIN:VEVENT
DTSTART;TZID=America/Chicago:20291030T170000
DTEND;TZID=America/Chicago:20291030T190000
DTSTAMP:20260425T055105
CREATED:20250221T151720Z
LAST-MODIFIED:20250221T151720Z
UID:10004077-1888074000-1888081200@masjidomarharvey.org
SUMMARY:Jiu-Jitsu for Kids
DESCRIPTION:
URL:https://masjidomarharvey.org/event/jiu-jitsu-for-kids/2029-10-30/
LOCATION:Masjid Omar\, 1528 Pietro Ct.\, Harvey\, LA\, 70058\, United States
CATEGORIES:All Programs,Kid's Programs,Sports Events
END:VEVENT
BEGIN:VEVENT
DTSTART;TZID=America/Chicago:20291030T211500
DTEND;TZID=America/Chicago:20291030T212500
DTSTAMP:20260425T055105
CREATED:20250221T151318Z
LAST-MODIFIED:20250322T023040Z
UID:10005964-1888089300-1888089900@masjidomarharvey.org
SUMMARY:Lessons After Isha with the Sheikh
DESCRIPTION:Come learn various Islamic lessons every day of the week\, with the following topics for each day: \n\nMonday: Ruling lessons (Political)\nTuesday: Interpretation of the Quran\nWednesday: Creed through the Prophetic Biography\nFriday: Youth Circle\nSaturday: Jurisprudence\nSunday: Lessons for the Youth
URL:https://masjidomarharvey.org/event/lessons-after-isha-with-the-shiekh/2029-10-30/
LOCATION:Masjid Omar\, 1528 Pietro Ct.\, Harvey\, LA\, 70058\, United States
CATEGORIES:All Programs,Kid's Programs,Men's Programs,Seminars,Women Programs
END:VEVENT
BEGIN:VEVENT
DTSTART;TZID=America/Chicago:20291031T211500
DTEND;TZID=America/Chicago:20291031T212500
DTSTAMP:20260425T055105
CREATED:20250221T151318Z
LAST-MODIFIED:20250322T023040Z
UID:10005965-1888175700-1888176300@masjidomarharvey.org
SUMMARY:Lessons After Isha with the Sheikh
DESCRIPTION:Come learn various Islamic lessons every day of the week\, with the following topics for each day: \n\nMonday: Ruling lessons (Political)\nTuesday: Interpretation of the Quran\nWednesday: Creed through the Prophetic Biography\nFriday: Youth Circle\nSaturday: Jurisprudence\nSunday: Lessons for the Youth
URL:https://masjidomarharvey.org/event/lessons-after-isha-with-the-shiekh/2029-10-31/
LOCATION:Masjid Omar\, 1528 Pietro Ct.\, Harvey\, LA\, 70058\, United States
CATEGORIES:All Programs,Kid's Programs,Men's Programs,Seminars,Women Programs
END:VEVENT
BEGIN:VEVENT
DTSTART;TZID=America/Chicago:20291101T170000
DTEND;TZID=America/Chicago:20291101T190000
DTSTAMP:20260425T055105
CREATED:20250221T151720Z
LAST-MODIFIED:20250221T151720Z
UID:10004078-1888246800-1888254000@masjidomarharvey.org
SUMMARY:Jiu-Jitsu for Kids
DESCRIPTION:
URL:https://masjidomarharvey.org/event/jiu-jitsu-for-kids/2029-11-01/
LOCATION:Masjid Omar\, 1528 Pietro Ct.\, Harvey\, LA\, 70058\, United States
CATEGORIES:All Programs,Kid's Programs,Sports Events
END:VEVENT
BEGIN:VEVENT
DTSTART;TZID=America/Chicago:20291101T211500
DTEND;TZID=America/Chicago:20291101T213000
DTSTAMP:20260425T055105
CREATED:20250221T151604Z
LAST-MODIFIED:20250322T023114Z
UID:10006333-1888262100-1888263000@masjidomarharvey.org
SUMMARY:New Muslims Thursday
DESCRIPTION:Come learn about your Religion and get to know your fellow reverts! \nEvery Thursday after Isha Prayer
URL:https://masjidomarharvey.org/event/new-muslims-thursday/2029-11-01/
LOCATION:Masjid Omar\, 1528 Pietro Ct.\, Harvey\, LA\, 70058\, United States
CATEGORIES:All Programs,Men's Programs,Women Programs
END:VEVENT
BEGIN:VEVENT
DTSTART;TZID=America/Chicago:20291102T110000
DTEND;TZID=America/Chicago:20291102T120000
DTSTAMP:20260425T055105
CREATED:20250221T145820Z
LAST-MODIFIED:20250221T145820Z
UID:10001164-1888311600-1888315200@masjidomarharvey.org
SUMMARY:Sister Sarmini's Lessons for Unmarried Women
DESCRIPTION:
URL:https://masjidomarharvey.org/event/sister-sarminis-lessons-for-unmarried-women/2029-11-02/
LOCATION:Masjid Omar\, 1528 Pietro Ct.\, Harvey\, LA\, 70058\, United States
CATEGORIES:All Programs,Women Programs
END:VEVENT
BEGIN:VEVENT
DTSTART;TZID=America/Chicago:20291102T170000
DTEND;TZID=America/Chicago:20291102T190000
DTSTAMP:20260425T055105
CREATED:20250221T144745Z
LAST-MODIFIED:20250221T144745Z
UID:10000445-1888333200-1888340400@masjidomarharvey.org
SUMMARY:Islamic Ethics and More (For Females)
DESCRIPTION:Goes over the following: \n\nStories of the Prophets and Role Models\nAl-Tahawiyyah Creed\nIslamic Ethics\nTajweed
URL:https://masjidomarharvey.org/event/islamic-ethics-and-more-for-females/2029-11-02/
LOCATION:LA
CATEGORIES:All Programs,Kid's Programs,Women Programs
END:VEVENT
BEGIN:VEVENT
DTSTART;TZID=America/Chicago:20291102T211500
DTEND;TZID=America/Chicago:20291102T212500
DTSTAMP:20260425T055105
CREATED:20250221T151318Z
LAST-MODIFIED:20250322T023040Z
UID:10005966-1888348500-1888349100@masjidomarharvey.org
SUMMARY:Lessons After Isha with the Sheikh
DESCRIPTION:Come learn various Islamic lessons every day of the week\, with the following topics for each day: \n\nMonday: Ruling lessons (Political)\nTuesday: Interpretation of the Quran\nWednesday: Creed through the Prophetic Biography\nFriday: Youth Circle\nSaturday: Jurisprudence\nSunday: Lessons for the Youth
URL:https://masjidomarharvey.org/event/lessons-after-isha-with-the-shiekh/2029-11-02/
LOCATION:Masjid Omar\, 1528 Pietro Ct.\, Harvey\, LA\, 70058\, United States
CATEGORIES:All Programs,Kid's Programs,Men's Programs,Seminars,Women Programs
END:VEVENT
BEGIN:VEVENT
DTSTART;TZID=America/Chicago:20291103T091500
DTEND;TZID=America/Chicago:20291103T134500
DTSTAMP:20260425T055105
CREATED:20250221T145401Z
LAST-MODIFIED:20250221T145415Z
UID:10000853-1888391700-1888407900@masjidomarharvey.org
SUMMARY:Saturday School for Kids
DESCRIPTION:Come register to have your kids learn the religion of Islam\, Quran\, and the Arabic Language
URL:https://masjidomarharvey.org/event/saturday-school-for-kids/2029-11-03/
LOCATION:Masjid Omar\, 1528 Pietro Ct.\, Harvey\, LA\, 70058\, United States
CATEGORIES:All Programs,Kid's Programs,Seminars
END:VEVENT
BEGIN:VEVENT
DTSTART;TZID=America/Chicago:20291103T170000
DTEND;TZID=America/Chicago:20291103T190000
DTSTAMP:20260425T055105
CREATED:20250221T151720Z
LAST-MODIFIED:20250221T151720Z
UID:10004079-1888419600-1888426800@masjidomarharvey.org
SUMMARY:Jiu-Jitsu for Kids
DESCRIPTION:
URL:https://masjidomarharvey.org/event/jiu-jitsu-for-kids/2029-11-03/
LOCATION:Masjid Omar\, 1528 Pietro Ct.\, Harvey\, LA\, 70058\, United States
CATEGORIES:All Programs,Kid's Programs,Sports Events
END:VEVENT
BEGIN:VEVENT
DTSTART;TZID=America/Chicago:20291103T211500
DTEND;TZID=America/Chicago:20291103T212500
DTSTAMP:20260425T055105
CREATED:20250221T151318Z
LAST-MODIFIED:20250322T023040Z
UID:10005967-1888434900-1888435500@masjidomarharvey.org
SUMMARY:Lessons After Isha with the Sheikh
DESCRIPTION:Come learn various Islamic lessons every day of the week\, with the following topics for each day: \n\nMonday: Ruling lessons (Political)\nTuesday: Interpretation of the Quran\nWednesday: Creed through the Prophetic Biography\nFriday: Youth Circle\nSaturday: Jurisprudence\nSunday: Lessons for the Youth
URL:https://masjidomarharvey.org/event/lessons-after-isha-with-the-shiekh/2029-11-03/
LOCATION:Masjid Omar\, 1528 Pietro Ct.\, Harvey\, LA\, 70058\, United States
CATEGORIES:All Programs,Kid's Programs,Men's Programs,Seminars,Women Programs
END:VEVENT
BEGIN:VEVENT
DTSTART;TZID=America/Chicago:20291104T060000
DTEND;TZID=America/Chicago:20291104T070000
DTSTAMP:20260425T055105
CREATED:20250221T151420Z
LAST-MODIFIED:20250227T010220Z
UID:10003059-1888466400-1888470000@masjidomarharvey.org
SUMMARY:Quran Reading Circle with the Sheikh
DESCRIPTION:
URL:https://masjidomarharvey.org/event/quran-reading-circle-with-the-shiekh/2029-11-04/
LOCATION:Masjid Omar\, 1528 Pietro Ct.\, Harvey\, LA\, 70058\, United States
CATEGORIES:All Programs,Men's Programs
END:VEVENT
BEGIN:VEVENT
DTSTART;TZID=America/Chicago:20291104T211500
DTEND;TZID=America/Chicago:20291104T212500
DTSTAMP:20260425T055105
CREATED:20250221T151318Z
LAST-MODIFIED:20250322T023040Z
UID:10005968-1888521300-1888521900@masjidomarharvey.org
SUMMARY:Lessons After Isha with the Sheikh
DESCRIPTION:Come learn various Islamic lessons every day of the week\, with the following topics for each day: \n\nMonday: Ruling lessons (Political)\nTuesday: Interpretation of the Quran\nWednesday: Creed through the Prophetic Biography\nFriday: Youth Circle\nSaturday: Jurisprudence\nSunday: Lessons for the Youth
URL:https://masjidomarharvey.org/event/lessons-after-isha-with-the-shiekh/2029-11-04/
LOCATION:Masjid Omar\, 1528 Pietro Ct.\, Harvey\, LA\, 70058\, United States
CATEGORIES:All Programs,Kid's Programs,Men's Programs,Seminars,Women Programs
END:VEVENT
BEGIN:VEVENT
DTSTART;TZID=America/Chicago:20291105T211500
DTEND;TZID=America/Chicago:20291105T212500
DTSTAMP:20260425T055105
CREATED:20250221T151318Z
LAST-MODIFIED:20250322T023040Z
UID:10005969-1888607700-1888608300@masjidomarharvey.org
SUMMARY:Lessons After Isha with the Sheikh
DESCRIPTION:Come learn various Islamic lessons every day of the week\, with the following topics for each day: \n\nMonday: Ruling lessons (Political)\nTuesday: Interpretation of the Quran\nWednesday: Creed through the Prophetic Biography\nFriday: Youth Circle\nSaturday: Jurisprudence\nSunday: Lessons for the Youth
URL:https://masjidomarharvey.org/event/lessons-after-isha-with-the-shiekh/2029-11-05/
LOCATION:Masjid Omar\, 1528 Pietro Ct.\, Harvey\, LA\, 70058\, United States
CATEGORIES:All Programs,Kid's Programs,Men's Programs,Seminars,Women Programs
END:VEVENT
BEGIN:VEVENT
DTSTART;TZID=America/Chicago:20291106T170000
DTEND;TZID=America/Chicago:20291106T190000
DTSTAMP:20260425T055105
CREATED:20250221T151720Z
LAST-MODIFIED:20250221T151720Z
UID:10004080-1888678800-1888686000@masjidomarharvey.org
SUMMARY:Jiu-Jitsu for Kids
DESCRIPTION:
URL:https://masjidomarharvey.org/event/jiu-jitsu-for-kids/2029-11-06/
LOCATION:Masjid Omar\, 1528 Pietro Ct.\, Harvey\, LA\, 70058\, United States
CATEGORIES:All Programs,Kid's Programs,Sports Events
END:VEVENT
BEGIN:VEVENT
DTSTART;TZID=America/Chicago:20291106T211500
DTEND;TZID=America/Chicago:20291106T212500
DTSTAMP:20260425T055105
CREATED:20250221T151318Z
LAST-MODIFIED:20250322T023040Z
UID:10005970-1888694100-1888694700@masjidomarharvey.org
SUMMARY:Lessons After Isha with the Sheikh
DESCRIPTION:Come learn various Islamic lessons every day of the week\, with the following topics for each day: \n\nMonday: Ruling lessons (Political)\nTuesday: Interpretation of the Quran\nWednesday: Creed through the Prophetic Biography\nFriday: Youth Circle\nSaturday: Jurisprudence\nSunday: Lessons for the Youth
URL:https://masjidomarharvey.org/event/lessons-after-isha-with-the-shiekh/2029-11-06/
LOCATION:Masjid Omar\, 1528 Pietro Ct.\, Harvey\, LA\, 70058\, United States
CATEGORIES:All Programs,Kid's Programs,Men's Programs,Seminars,Women Programs
END:VEVENT
END:VCALENDAR